BEGIN:VCALENDAR
VERSION:2.0
PRODID:-//Virginia811 - ECPv6.15.16//NONSGML v1.0//EN
CALSCALE:GREGORIAN
METHOD:PUBLISH
X-WR-CALNAME:Virginia811
X-ORIGINAL-URL:https://va811.com
X-WR-CALDESC:Events for Virginia811
REFRESH-INTERVAL;VALUE=DURATION:PT1H
X-Robots-Tag:noindex
X-PUBLISHED-TTL:PT1H
BEGIN:VTIMEZONE
TZID:America/Detroit
BEGIN:DAYLIGHT
TZOFFSETFROM:-0500
TZOFFSETTO:-0400
TZNAME:EDT
DTSTART:20250309T070000
END:DAYLIGHT
BEGIN:STANDARD
TZOFFSETFROM:-0400
TZOFFSETTO:-0500
TZNAME:EST
DTSTART:20251102T060000
END:STANDARD
BEGIN:DAYLIGHT
TZOFFSETFROM:-0500
TZOFFSETTO:-0400
TZNAME:EDT
DTSTART:20260308T070000
END:DAYLIGHT
BEGIN:STANDARD
TZOFFSETFROM:-0400
TZOFFSETTO:-0500
TZNAME:EST
DTSTART:20261101T060000
END:STANDARD
BEGIN:DAYLIGHT
TZOFFSETFROM:-0500
TZOFFSETTO:-0400
TZNAME:EDT
DTSTART:20270314T070000
END:DAYLIGHT
BEGIN:STANDARD
TZOFFSETFROM:-0400
TZOFFSETTO:-0500
TZNAME:EST
DTSTART:20271107T060000
END:STANDARD
END:VTIMEZONE
BEGIN:VEVENT
DTSTART;TZID=America/Detroit:20260527T100000
DTEND;TZID=America/Detroit:20260527T123000
DTSTAMP:20260422T233745
CREATED:20260422T153312Z
LAST-MODIFIED:20260422T153403Z
UID:25937-1779876000-1779885000@va811.com
SUMMARY:VA811 Bootcamp
DESCRIPTION:Virginia 811 Bootcamp\nThe Questions We Hear Every Day — Finally in One Room.\n  \nWednesday\nMay 27\, 2026\n10:00 AM–12:00 PM\nColumbia Gas Training Center \n1809 Coyote Dr. \nChester\, VA 23836 \nBreakfast and lunch will be provided \n  \nAnyone who works with the 811 system knows that questions come up constantly in the field—about Exactix\, mapping\, member responsibilities\, and operations—but the answers often live across different teams and subject matter experts\, making it difficult to know who to ask. \nThe Virginia 811 Bootcamp is a chance to bring those questions — and the people who can answer them — into the same room. Utilities\, excavators\, locators\, and stakeholders will have the opportunity to talk through real-world challenges\, ask questions directly\, and learn from one another. \nBy getting together in person\, we believe everyone will walk away with clearer answers\, stronger connections\, and a better understanding of how the system works for everyone involved. \nA brief pre-meeting survey and registration link will be shared soon.
URL:https://va811.com/event/va811-bootcamp/
LOCATION:Columbia Gas Training Center\, 1809 Coyote Dr.\, Chester\, VA\, 23836\, United States
CATEGORIES:Training
END:VEVENT
END:VCALENDAR