BEGIN:VCALENDAR
VERSION:2.0
PRODID:-//Virginia811 - ECPv6.15.16//NONSGML v1.0//EN
CALSCALE:GREGORIAN
METHOD:PUBLISH
X-ORIGINAL-URL:https://va811.com
X-WR-CALDESC:Events for Virginia811
REFRESH-INTERVAL;VALUE=DURATION:PT1H
X-Robots-Tag:noindex
X-PUBLISHED-TTL:PT1H
BEGIN:VTIMEZONE
TZID:America/Detroit
BEGIN:DAYLIGHT
TZOFFSETFROM:-0500
TZOFFSETTO:-0400
TZNAME:EDT
DTSTART:20250309T070000
END:DAYLIGHT
BEGIN:STANDARD
TZOFFSETFROM:-0400
TZOFFSETTO:-0500
TZNAME:EST
DTSTART:20251102T060000
END:STANDARD
BEGIN:DAYLIGHT
TZOFFSETFROM:-0500
TZOFFSETTO:-0400
TZNAME:EDT
DTSTART:20260308T070000
END:DAYLIGHT
BEGIN:STANDARD
TZOFFSETFROM:-0400
TZOFFSETTO:-0500
TZNAME:EST
DTSTART:20261101T060000
END:STANDARD
BEGIN:DAYLIGHT
TZOFFSETFROM:-0500
TZOFFSETTO:-0400
TZNAME:EDT
DTSTART:20270314T070000
END:DAYLIGHT
BEGIN:STANDARD
TZOFFSETFROM:-0400
TZOFFSETTO:-0500
TZNAME:EST
DTSTART:20271107T060000
END:STANDARD
END:VTIMEZONE
BEGIN:VEVENT
DTSTART;TZID=America/Detroit:20260218T090000
DTEND;TZID=America/Detroit:20260218T110000
DTSTAMP:20260422T050709
CREATED:20251026T015504Z
LAST-MODIFIED:20260105T185820Z
UID:24536-1771405200-1771412400@va811.com
SUMMARY:Columbia Gas Open House Damage Prevention Training
DESCRIPTION:Open House Damage Prevention Training\n\n\nPresented by Columbia Gas of Virginia \nWednesday | February 18\, 2026 \n 9:00 AM – 11:00 AM \nColumbia Gas Training Center \n1812 Coyote Dr. \nChester\, VA 23836 \n* Registration is limited to 20 participants \nThis training session will feature the recently updated Dig with CARE training material and will focus on Virginia law and industry best practices. The training is designed to help reduce the likelihood of damages that can lead to injury or death\, environmental harm\, service disruptions\, and financial consequences. \nREGISTER HERE: https://lp.constantcontactpages.com/ev/reg/xddq3dt \n* Attendees must either back into a parking spot or use one of the pull-through spaces.
URL:https://va811.com/event/columbia-gas-open-house-damage-prevention-training/
LOCATION:Columbia Gas of VA Training Center\, 1812 Coyote Drive\, Chester\, VA\, 23836\, United States
CATEGORIES:Training
END:VEVENT
END:VCALENDAR