BEGIN:VCALENDAR
VERSION:2.0
PRODID:-//Virginia811 - ECPv6.15.16//NONSGML v1.0//EN
CALSCALE:GREGORIAN
METHOD:PUBLISH
X-ORIGINAL-URL:https://va811.com
X-WR-CALDESC:Events for Virginia811
REFRESH-INTERVAL;VALUE=DURATION:PT1H
X-Robots-Tag:noindex
X-PUBLISHED-TTL:PT1H
BEGIN:VTIMEZONE
TZID:America/Detroit
BEGIN:DAYLIGHT
TZOFFSETFROM:-0500
TZOFFSETTO:-0400
TZNAME:EDT
DTSTART:20240310T070000
END:DAYLIGHT
BEGIN:STANDARD
TZOFFSETFROM:-0400
TZOFFSETTO:-0500
TZNAME:EST
DTSTART:20241103T060000
END:STANDARD
BEGIN:DAYLIGHT
TZOFFSETFROM:-0500
TZOFFSETTO:-0400
TZNAME:EDT
DTSTART:20250309T070000
END:DAYLIGHT
BEGIN:STANDARD
TZOFFSETFROM:-0400
TZOFFSETTO:-0500
TZNAME:EST
DTSTART:20251102T060000
END:STANDARD
BEGIN:DAYLIGHT
TZOFFSETFROM:-0500
TZOFFSETTO:-0400
TZNAME:EDT
DTSTART:20260308T070000
END:DAYLIGHT
BEGIN:STANDARD
TZOFFSETFROM:-0400
TZOFFSETTO:-0500
TZNAME:EST
DTSTART:20261101T060000
END:STANDARD
END:VTIMEZONE
BEGIN:VEVENT
DTSTART;TZID=America/Detroit:20250916T110000
DTEND;TZID=America/Detroit:20250916T123000
DTSTAMP:20260422T121841
CREATED:20250601T001010Z
LAST-MODIFIED:20250731T123157Z
UID:22682-1758020400-1758025800@va811.com
SUMMARY:Paradigm Pipeline Safety Awareness Training Program – Sandston
DESCRIPTION:Paradigm Pipeline Safety Awareness Training Program – Sandston\nTuesday \nSeptember 16\, 2025 \n11:00 AM \nHilton Garden Inn Richmond Airport \n441 International Center Dr. \nRichmond\, VA 23150-1336 \nCounties Served:  \nCaroline\, Chesterfield\, Colonial Heights\, Dinwiddie\, Goochland\, Hanover\, Henrico\, Hopewell\, James City\, Petersburg\, Powhatan\, Prince George\, Richmond \nREGISTER HERE: https://va.pipeline-awareness.com/meeting_schedule \n 
URL:https://va811.com/event/paradigm-pipeline-safety-awareness-training-program-sandston/
LOCATION:Hilton Garden Inn Richmond Airport\, 441 International Center Dr.\, Richmond\, VA\, 23150\, United States
CATEGORIES:Training
END:VEVENT
END:VCALENDAR