BEGIN:VCALENDAR
VERSION:2.0
PRODID:-//Virginia811 - ECPv6.15.16//NONSGML v1.0//EN
CALSCALE:GREGORIAN
METHOD:PUBLISH
X-ORIGINAL-URL:https://va811.com
X-WR-CALDESC:Events for Virginia811
REFRESH-INTERVAL;VALUE=DURATION:PT1H
X-Robots-Tag:noindex
X-PUBLISHED-TTL:PT1H
BEGIN:VTIMEZONE
TZID:America/Detroit
BEGIN:DAYLIGHT
TZOFFSETFROM:-0500
TZOFFSETTO:-0400
TZNAME:EDT
DTSTART:20240310T070000
END:DAYLIGHT
BEGIN:STANDARD
TZOFFSETFROM:-0400
TZOFFSETTO:-0500
TZNAME:EST
DTSTART:20241103T060000
END:STANDARD
BEGIN:DAYLIGHT
TZOFFSETFROM:-0500
TZOFFSETTO:-0400
TZNAME:EDT
DTSTART:20250309T070000
END:DAYLIGHT
BEGIN:STANDARD
TZOFFSETFROM:-0400
TZOFFSETTO:-0500
TZNAME:EST
DTSTART:20251102T060000
END:STANDARD
BEGIN:DAYLIGHT
TZOFFSETFROM:-0500
TZOFFSETTO:-0400
TZNAME:EDT
DTSTART:20260308T070000
END:DAYLIGHT
BEGIN:STANDARD
TZOFFSETFROM:-0400
TZOFFSETTO:-0500
TZNAME:EST
DTSTART:20261101T060000
END:STANDARD
END:VTIMEZONE
BEGIN:VEVENT
DTSTART;TZID=America/Detroit:20250915T173000
DTEND;TZID=America/Detroit:20250915T190000
DTSTAMP:20260422T121840
CREATED:20250601T000509Z
LAST-MODIFIED:20250731T123121Z
UID:22680-1757957400-1757962800@va811.com
SUMMARY:Paradigm Pipeline Safety Awareness Training Program – Colonial Heights
DESCRIPTION:Paradigm Pipeline Safety Awareness Training Program – Colonial Heights\nMonday \nSeptember 15\, 2025 \n5:30 PM \nLocation: \nThe Vault at Pickwick \n123 Pickwick Ave. \nColonial Heights\, VA 23834 \n  \nCounties Served:  \nChesterfield\, Colonial Heights\, Dinwiddie\, Goochland\, Hanover\, Henrico\, Hopewell\, James City\, Petersburg\, Powhatan\, Prince George\, Richmond \nREGISTER HERE: https://va.pipeline-awareness.com/meeting_schedule \n 
URL:https://va811.com/event/paradigm-pipeline-safety-awareness-training-program-colonial-heights/
LOCATION:The Vault at Pickwick\, 123 Pickwick Ave.\, Colonial Heights\, VA\, 23834\, United States
CATEGORIES:Training
END:VEVENT
END:VCALENDAR