BEGIN:VCALENDAR
VERSION:2.0
PRODID:-//Virginia811 - ECPv6.15.16//NONSGML v1.0//EN
CALSCALE:GREGORIAN
METHOD:PUBLISH
X-WR-CALNAME:Virginia811
X-ORIGINAL-URL:https://va811.com
X-WR-CALDESC:Events for Virginia811
REFRESH-INTERVAL;VALUE=DURATION:PT1H
X-Robots-Tag:noindex
X-PUBLISHED-TTL:PT1H
BEGIN:VTIMEZONE
TZID:America/Detroit
BEGIN:DAYLIGHT
TZOFFSETFROM:-0500
TZOFFSETTO:-0400
TZNAME:EDT
DTSTART:20240310T070000
END:DAYLIGHT
BEGIN:STANDARD
TZOFFSETFROM:-0400
TZOFFSETTO:-0500
TZNAME:EST
DTSTART:20241103T060000
END:STANDARD
BEGIN:DAYLIGHT
TZOFFSETFROM:-0500
TZOFFSETTO:-0400
TZNAME:EDT
DTSTART:20250309T070000
END:DAYLIGHT
BEGIN:STANDARD
TZOFFSETFROM:-0400
TZOFFSETTO:-0500
TZNAME:EST
DTSTART:20251102T060000
END:STANDARD
BEGIN:DAYLIGHT
TZOFFSETFROM:-0500
TZOFFSETTO:-0400
TZNAME:EDT
DTSTART:20260308T070000
END:DAYLIGHT
BEGIN:STANDARD
TZOFFSETFROM:-0400
TZOFFSETTO:-0500
TZNAME:EST
DTSTART:20261101T060000
END:STANDARD
END:VTIMEZONE
BEGIN:VEVENT
DTSTART;TZID=America/Detroit:20250716T090000
DTEND;TZID=America/Detroit:20250716T110000
DTSTAMP:20260422T153119
CREATED:20250408T165520Z
LAST-MODIFIED:20250715T141809Z
UID:21904-1752656400-1752663600@va811.com
SUMMARY:Open House Damage Prevention Training
DESCRIPTION:Open House Damage Prevention Training\nPresented by Columbia Gas of Virginia \nWednesday | July 16\, 2025 \n 9:00 AM – 11:00 AM \nColumbia Gas Training Center \n1812 Coyote Dr. \nChester\, VA 23836 \n* Registration is limited to twenty participants \nThis training session will feature the recently updated Dig with CARE training material and will focus on Virginia law and industry best practices. The training is designed to help reduce the likelihood of damages that can lead to injury or death\, environmental harm\, service disruptions\, and financial consequences. \nUPDATE: Registration for this event has reached its maximum capacity and is now closed.
URL:https://va811.com/event/open-damage-prevention-training/
LOCATION:Columbia Gas of VA Training Center\, 1812 Coyote Drive\, Chester\, VA\, 23836\, United States
CATEGORIES:Training
END:VEVENT
END:VCALENDAR