BEGIN:VCALENDAR
VERSION:2.0
PRODID:-//Virginia811 - ECPv6.15.16//NONSGML v1.0//EN
CALSCALE:GREGORIAN
METHOD:PUBLISH
X-ORIGINAL-URL:https://va811.com
X-WR-CALDESC:Events for Virginia811
REFRESH-INTERVAL;VALUE=DURATION:PT1H
X-Robots-Tag:noindex
X-PUBLISHED-TTL:PT1H
BEGIN:VTIMEZONE
TZID:America/Detroit
BEGIN:DAYLIGHT
TZOFFSETFROM:-0500
TZOFFSETTO:-0400
TZNAME:EDT
DTSTART:20240310T070000
END:DAYLIGHT
BEGIN:STANDARD
TZOFFSETFROM:-0400
TZOFFSETTO:-0500
TZNAME:EST
DTSTART:20241103T060000
END:STANDARD
BEGIN:DAYLIGHT
TZOFFSETFROM:-0500
TZOFFSETTO:-0400
TZNAME:EDT
DTSTART:20250309T070000
END:DAYLIGHT
BEGIN:STANDARD
TZOFFSETFROM:-0400
TZOFFSETTO:-0500
TZNAME:EST
DTSTART:20251102T060000
END:STANDARD
BEGIN:DAYLIGHT
TZOFFSETFROM:-0500
TZOFFSETTO:-0400
TZNAME:EDT
DTSTART:20260308T070000
END:DAYLIGHT
BEGIN:STANDARD
TZOFFSETFROM:-0400
TZOFFSETTO:-0500
TZNAME:EST
DTSTART:20261101T060000
END:STANDARD
END:VTIMEZONE
BEGIN:VEVENT
DTSTART;TZID=America/Detroit:20250227T080000
DTEND;TZID=America/Detroit:20250227T143000
DTSTAMP:20260422T214456
CREATED:20250208T163414Z
LAST-MODIFIED:20250208T163414Z
UID:21087-1740643200-1740666600@va811.com
SUMMARY:Eastcom Locator Training Class – Blacksburg
DESCRIPTION:Eastcom Locator Training Class – Blacksburg\nThursday \nFebruary 27\, 2025 \n8:00 AM \nBlacksburg Community Center  \nProgram Room \n725 Patrick Henry Dr. \nBlacksburg\, VA 24060 \nClass Details \nSign-In and Refreshments: \n\nTime: 8:00 AM\nRefreshments: Coffee\, soda\, doughnuts\, etc.\n\nClass Start: \n\nTime: 8:30 AM\nDuration: Ends at 2:00 – 2:30 PM (depending on questions and hands-on portion)\n\nCost: \n\n$175 per attendee\nIncludes: Certificate\, printout of materials\nBonus: Yeti mugs & hats given at the end of the day\n\nClass Size: \n\nLimited to 25 attendees\n\nCertification: \n\nMeets NULCA standards\nProvides certificate and print-out of material covered for record-keeping\nAllows Water/Wastewater Operators and Engineers to apply for CPEs toward their licenses\n\nLunch: \n\nBox lunches provided\n\nEastcom Training Inquiry Contact: \n\nMark Norris: (757) 642-6601 | MNorris@EastcomAssoc.com\nGus Salles: (201) 310-9666 | GSalles@EastcomAssoc.com\n\nREGISTER HERE: \nhttps://lp.constantcontactpages.com/ev/reg/pz94jhn/lp/8d0d0379-6b7b-4617-b340-0aa5d326a391
URL:https://va811.com/event/eastcom-locator-training-class-blacksburg/
LOCATION:Blacksburg Community Center\, 725 Patrick Henry Dr.\, Blacksburg\, VA\, 24060-3138\, United States
CATEGORIES:Training
END:VEVENT
END:VCALENDAR