BEGIN:VCALENDAR
VERSION:2.0
PRODID:-//Virginia811 - ECPv6.15.16//NONSGML v1.0//EN
CALSCALE:GREGORIAN
METHOD:PUBLISH
X-WR-CALNAME:Virginia811
X-ORIGINAL-URL:https://va811.com
X-WR-CALDESC:Events for Virginia811
REFRESH-INTERVAL;VALUE=DURATION:PT1H
X-Robots-Tag:noindex
X-PUBLISHED-TTL:PT1H
BEGIN:VTIMEZONE
TZID:America/Detroit
BEGIN:DAYLIGHT
TZOFFSETFROM:-0500
TZOFFSETTO:-0400
TZNAME:EDT
DTSTART:20240310T070000
END:DAYLIGHT
BEGIN:STANDARD
TZOFFSETFROM:-0400
TZOFFSETTO:-0500
TZNAME:EST
DTSTART:20241103T060000
END:STANDARD
BEGIN:DAYLIGHT
TZOFFSETFROM:-0500
TZOFFSETTO:-0400
TZNAME:EDT
DTSTART:20250309T070000
END:DAYLIGHT
BEGIN:STANDARD
TZOFFSETFROM:-0400
TZOFFSETTO:-0500
TZNAME:EST
DTSTART:20251102T060000
END:STANDARD
BEGIN:DAYLIGHT
TZOFFSETFROM:-0500
TZOFFSETTO:-0400
TZNAME:EDT
DTSTART:20260308T070000
END:DAYLIGHT
BEGIN:STANDARD
TZOFFSETFROM:-0400
TZOFFSETTO:-0500
TZNAME:EST
DTSTART:20261101T060000
END:STANDARD
END:VTIMEZONE
BEGIN:VEVENT
DTSTART;TZID=America/Detroit:20250226T080000
DTEND;TZID=America/Detroit:20250226T143000
DTSTAMP:20260422T214335
CREATED:20250208T162252Z
LAST-MODIFIED:20250208T162252Z
UID:21082-1740556800-1740580200@va811.com
SUMMARY:Eastcom Locator Training Class – Chester
DESCRIPTION:Eastcom Locator Training Class – Chester\nWednesday \nFebruary 26\, 2025 \n8:00 AM \nColumbia Gas of VA Chester \n1812 Coyote Dr. |  Chester\, VA  | 23836 \nClass Details \nSign-In and Refreshments: \n\nTime: 8:00 AM\nRefreshments: Coffee\, soda\, doughnuts\, etc.\n\nClass Start: \n\nTime: 8:30 AM\nDuration: Ends at 2:00 – 2:30 PM (depending on questions and hands-on portion)\n\nCost: \n\n$175 per attendee\nIncludes: Certificate\, printout of materials\nBonus: Yeti mugs & hats given at the end of the day\n\nClass Size: \n\nLimited to 25 attendees\n\nCertification: \n\nMeets NULCA standards\nProvides certificate and print-out of material covered for record-keeping\nAllows Water/Wastewater Operators and Engineers to apply for CPEs toward their licenses\n\nLunch: \n\nBox lunches provided\n\nLocation Details: \n\nPPE Required for outside hands-on training\nHard hat\, steel-toed boots\, and vest\nParking: Park in the middle area (either pull-through or back-in spaces)\n\nEastcom Training Inquiry Contact: \n\nMark Norris: (757) 642-6601 | MNorris@EastcomAssoc.com\nGus Salles: (201) 310-9666 | GSalles@EastcomAssoc.com\n\nREGISTER HERE: \nhttps://lp.constantcontactpages.com/ev/reg/7gm2ttg/lp/034d436c-bc37-4e28-b0bc-f0cdccf20b26
URL:https://va811.com/event/eastcom-locator-training-class-chester-2/
LOCATION:Columbia Gas of VA Training Center\, 1812 Coyote Drive\, Chester\, VA\, 23836\, United States
CATEGORIES:Training
END:VEVENT
END:VCALENDAR