BEGIN:VCALENDAR
VERSION:2.0
PRODID:-//Virginia811 - ECPv6.15.16//NONSGML v1.0//EN
CALSCALE:GREGORIAN
METHOD:PUBLISH
X-ORIGINAL-URL:https://va811.com
X-WR-CALDESC:Events for Virginia811
REFRESH-INTERVAL;VALUE=DURATION:PT1H
X-Robots-Tag:noindex
X-PUBLISHED-TTL:PT1H
BEGIN:VTIMEZONE
TZID:America/Detroit
BEGIN:DAYLIGHT
TZOFFSETFROM:-0500
TZOFFSETTO:-0400
TZNAME:EDT
DTSTART:20240310T070000
END:DAYLIGHT
BEGIN:STANDARD
TZOFFSETFROM:-0400
TZOFFSETTO:-0500
TZNAME:EST
DTSTART:20241103T060000
END:STANDARD
BEGIN:DAYLIGHT
TZOFFSETFROM:-0500
TZOFFSETTO:-0400
TZNAME:EDT
DTSTART:20250309T070000
END:DAYLIGHT
BEGIN:STANDARD
TZOFFSETFROM:-0400
TZOFFSETTO:-0500
TZNAME:EST
DTSTART:20251102T060000
END:STANDARD
BEGIN:DAYLIGHT
TZOFFSETFROM:-0500
TZOFFSETTO:-0400
TZNAME:EDT
DTSTART:20260308T070000
END:DAYLIGHT
BEGIN:STANDARD
TZOFFSETFROM:-0400
TZOFFSETTO:-0500
TZNAME:EST
DTSTART:20261101T060000
END:STANDARD
END:VTIMEZONE
BEGIN:VEVENT
DTSTART;TZID=America/Detroit:20250218T090000
DTEND;TZID=America/Detroit:20250218T110000
DTSTAMP:20260422T231946
CREATED:20250122T043545Z
LAST-MODIFIED:20250128T133836Z
UID:20917-1739869200-1739876400@va811.com
SUMMARY:Damage Prevention Training - Chester
DESCRIPTION:DAMAGE PREVENTION TRAINING\nRegistration for this training meeting is full.  \nThank you for your interest—please check back for future events! \n  \nColumbia Gas of Virginia\, in partnership with Virginia 811\, is hosting a joint training session open to all. \nSpace is limited to the first 20 registrants—be sure to register early! \n* Attendees will need to back into parking spaces or pull thru spaces per Training Center requirements; and register at the reception desk. \nTo register\, please email David Stone at:  Davidstone1@nisource.com
URL:https://va811.com/event/damage-prevention-training-chester/
LOCATION:Columbia Gas of VA Training Center\, 1812 Coyote Drive\, Chester\, VA\, 23836\, United States
CATEGORIES:Training
END:VEVENT
END:VCALENDAR