BEGIN:VCALENDAR
VERSION:2.0
PRODID:-//Virginia811 - ECPv6.15.16//NONSGML v1.0//EN
CALSCALE:GREGORIAN
METHOD:PUBLISH
X-WR-CALNAME:Virginia811
X-ORIGINAL-URL:https://va811.com
X-WR-CALDESC:Events for Virginia811
REFRESH-INTERVAL;VALUE=DURATION:PT1H
X-Robots-Tag:noindex
X-PUBLISHED-TTL:PT1H
BEGIN:VTIMEZONE
TZID:America/Detroit
BEGIN:DAYLIGHT
TZOFFSETFROM:-0500
TZOFFSETTO:-0400
TZNAME:EDT
DTSTART:20240310T070000
END:DAYLIGHT
BEGIN:STANDARD
TZOFFSETFROM:-0400
TZOFFSETTO:-0500
TZNAME:EST
DTSTART:20241103T060000
END:STANDARD
BEGIN:DAYLIGHT
TZOFFSETFROM:-0500
TZOFFSETTO:-0400
TZNAME:EDT
DTSTART:20250309T070000
END:DAYLIGHT
BEGIN:STANDARD
TZOFFSETFROM:-0400
TZOFFSETTO:-0500
TZNAME:EST
DTSTART:20251102T060000
END:STANDARD
BEGIN:DAYLIGHT
TZOFFSETFROM:-0500
TZOFFSETTO:-0400
TZNAME:EDT
DTSTART:20260308T070000
END:DAYLIGHT
BEGIN:STANDARD
TZOFFSETFROM:-0400
TZOFFSETTO:-0500
TZNAME:EST
DTSTART:20261101T060000
END:STANDARD
END:VTIMEZONE
BEGIN:VEVENT
DTSTART;TZID=America/Detroit:20250213T080000
DTEND;TZID=America/Detroit:20250213T153000
DTSTAMP:20260422T231211
CREATED:20250115T164145Z
LAST-MODIFIED:20250210T162612Z
UID:20901-1739433600-1739460600@va811.com
SUMMARY:Eastcom Locator Training Class - Virginia Beach | CANCELED
DESCRIPTION:Due to the anticipated weather conditions in Virginia\, this class has been canceled.  \nThe proposed reschedule date is listed below. Please check back for final confirmation and details. \nMarch 6\, 2025: Virginia Beach \n \nEastcom Locator Training Class – Virginia Beach\nTHIS CLASS IS NOW CLOSED \nPLEASE CHECK BACK FOR FUTURE TRAININGS COMING SOON \nThursday \nFebruary 13\, 2025 \nVirginia Beach Public Utilities Operations Center \n3500 Dam Neck Rd. |  Virginia Beach VA |  23453 \n  \nClass Details \nSign-In and Refreshments: \n\nTime: 8:00 AM\nRefreshments: Coffee\, soda\, doughnuts\, etc.\n\nClass Start: \n\nTime: 8:30 AM\nDuration: Ends at 2:00 – 2:30 PM (depending on questions and hands-on portion)\n\nCost: \n\n$175 per attendee\nIncludes: Certificate\, printout of materials\nBonus: Yeti mugs & hats given at the end of the day\n\nClass Size: \n\nLimited to 25 attendees\n\nCertification: \n\nMeets NULCA standards\nProvides certificate and print-out of material covered for record-keeping\nAllows Water/Wastewater Operators and Engineers to apply for CPEs toward their licenses\n\nLunch: \n\nBox lunches provided\n\nLocation Details: \n\nTraining held in Multi Purpose Training Room\n\nEastcom Training Inquiry Contact: \n\nMark Norris: (757) 642-6601 | MNorris@EastcomAssoc.com\nGus Salles: (201) 310-9666 | GSalles@EastcomAssoc.com\n\nREGISTER HERE: \nhttps://lp.constantcontactpages.com/ev/reg/x9nbhje/lp/eb57ce6b-8507-49b5-8d5c-6d81b16d2b6f
URL:https://va811.com/event/eastcom-locator-training-class-virginia-beach/
LOCATION:Virginia Beach Public Utilities Operations Center\, 3500 Dam Neck Rd.\, Virginia Beach\, VA\, 23453\, United States
CATEGORIES:Training
END:VEVENT
END:VCALENDAR