BEGIN:VCALENDAR
VERSION:2.0
PRODID:-//Virginia811 - ECPv6.15.16//NONSGML v1.0//EN
CALSCALE:GREGORIAN
METHOD:PUBLISH
X-ORIGINAL-URL:https://va811.com
X-WR-CALDESC:Events for Virginia811
REFRESH-INTERVAL;VALUE=DURATION:PT1H
X-Robots-Tag:noindex
X-PUBLISHED-TTL:PT1H
BEGIN:VTIMEZONE
TZID:America/Detroit
BEGIN:DAYLIGHT
TZOFFSETFROM:-0500
TZOFFSETTO:-0400
TZNAME:EDT
DTSTART:20240310T070000
END:DAYLIGHT
BEGIN:STANDARD
TZOFFSETFROM:-0400
TZOFFSETTO:-0500
TZNAME:EST
DTSTART:20241103T060000
END:STANDARD
BEGIN:DAYLIGHT
TZOFFSETFROM:-0500
TZOFFSETTO:-0400
TZNAME:EDT
DTSTART:20250309T070000
END:DAYLIGHT
BEGIN:STANDARD
TZOFFSETFROM:-0400
TZOFFSETTO:-0500
TZNAME:EST
DTSTART:20251102T060000
END:STANDARD
BEGIN:DAYLIGHT
TZOFFSETFROM:-0500
TZOFFSETTO:-0400
TZNAME:EDT
DTSTART:20260308T070000
END:DAYLIGHT
BEGIN:STANDARD
TZOFFSETFROM:-0400
TZOFFSETTO:-0500
TZNAME:EST
DTSTART:20261101T060000
END:STANDARD
END:VTIMEZONE
BEGIN:VEVENT
DTSTART;TZID=America/Detroit:20250211T080000
DTEND;TZID=America/Detroit:20250211T143000
DTSTAMP:20260422T231432
CREATED:20250115T163804Z
LAST-MODIFIED:20250210T162646Z
UID:20890-1739260800-1739284200@va811.com
SUMMARY:Eastcom Locator Training Class - Lorton | CANCELED
DESCRIPTION:Due to the anticipated weather conditions in Virginia\, this class has been canceled.  \nThe proposed reschedule date is listed below. Please check back for final confirmation and details. \n March 4\, 2025: Lorton \n  \n \nEastcom Locator Training Class – Lorton \nTHIS CLASS IS NOW CLOSED \nPLEASE CHECK BACK FOR FUTURE TRAININGS COMING SOON \nTuesday \nFebruary 11\, 2025 \n8:00 AM \nFairfax Water/Griffith Water Treatment Plant \n9600 Ox Road (Route 123) | Lorton\, VA | 22079 \n  \nClass Details \nSign-In and Refreshments: \n\nTime: 8:00 AM\nRefreshments: Coffee\, soda\, doughnuts\, etc.\n\nClass Start: \n\nTime: 8:30 AM\nDuration: Ends at 2:00 – 2:30 PM (depending on questions and hands-on portion)\n\nCost: \n\n$175 per attendee\nIncludes: Certificate\, printout of materials\nBonus: Yeti mugs & hats given at the end of the day\n\nClass Size: \n\nLimited to 25 attendees\n\nCertification: \n\nMeets NULCA standards\nProvides certificate and print-out of material covered for record-keeping\nAllows Water/Wastewater Operators and Engineers to apply for CPEs toward their licenses\n\nLunch: \n\nBox lunches provided\n\nLocation Details: \n\nGuard gate will have a list of attendees for entry\n\nEastcom Training Inquiry Contact: \n\nMark Norris: (757) 642-6601 | MNorris@EastcomAssoc.com\nGus Salles: (201) 310-9666 | GSalles@EastcomAssoc.com\n\nREGISTER HERE: \nhttps://lp.constantcontactpages.com/ev/reg/x9nbhje/lp/eb57ce6b-8507-49b5-8d5c-6d81b16d2b6f
URL:https://va811.com/event/eastcom-locator-training-class-lorton/
LOCATION:Fairfax Water/Griffith Water Treatment Plant\, 9600 Ox Road (Route 123)\, Lorton\, VA\, 22079\, United States
CATEGORIES:Training
END:VEVENT
END:VCALENDAR