BEGIN:VCALENDAR
VERSION:2.0
PRODID:-//Virginia811 - ECPv6.15.16//NONSGML v1.0//EN
CALSCALE:GREGORIAN
METHOD:PUBLISH
X-ORIGINAL-URL:https://va811.com
X-WR-CALDESC:Events for Virginia811
REFRESH-INTERVAL;VALUE=DURATION:PT1H
X-Robots-Tag:noindex
X-PUBLISHED-TTL:PT1H
BEGIN:VTIMEZONE
TZID:America/Detroit
BEGIN:DAYLIGHT
TZOFFSETFROM:-0500
TZOFFSETTO:-0400
TZNAME:EDT
DTSTART:20230312T070000
END:DAYLIGHT
BEGIN:STANDARD
TZOFFSETFROM:-0400
TZOFFSETTO:-0500
TZNAME:EST
DTSTART:20231105T060000
END:STANDARD
BEGIN:DAYLIGHT
TZOFFSETFROM:-0500
TZOFFSETTO:-0400
TZNAME:EDT
DTSTART:20240310T070000
END:DAYLIGHT
BEGIN:STANDARD
TZOFFSETFROM:-0400
TZOFFSETTO:-0500
TZNAME:EST
DTSTART:20241103T060000
END:STANDARD
BEGIN:DAYLIGHT
TZOFFSETFROM:-0500
TZOFFSETTO:-0400
TZNAME:EDT
DTSTART:20250309T070000
END:DAYLIGHT
BEGIN:STANDARD
TZOFFSETFROM:-0400
TZOFFSETTO:-0500
TZNAME:EST
DTSTART:20251102T060000
END:STANDARD
END:VTIMEZONE
BEGIN:VEVENT
DTSTART;TZID=America/Detroit:20241024T080000
DTEND;TZID=America/Detroit:20241024T160000
DTSTAMP:20260423T052739
CREATED:20240910T140906Z
LAST-MODIFIED:20240917T100941Z
UID:20170-1729756800-1729785600@va811.com
SUMMARY:Staking University Locator Training  - Chester VA
DESCRIPTION:  \n \nStaking University has partnered with Virginia 811 to offer a two-day Locator Training course at four locations across Virginia in October and November. This hands-on and classroom instruction is designed to benefit utility locators of all experience levels\, from novice to expert. \nChester Virginia Class \nThursday | October 24 \nFriday | October 25 \n8:00 AM – 4:00 PM (both days) \nColumbia Gas of Virginia Training Center \n1812 Coyote Dr. \nChester\, VA\, 23836 \nCLASS SCHEDULE: \n8:00 AM – 4:00 PM (both days) \nClass includes (2) ten-minute breaks and a 45-minute lunch. \nCOST: \n$340 per person \nMid-morning snacks and lunch are included for both days of training. Hotel accommodations are the responsibility of participants and are not included in the class fee. \nCLASS SIZE: \nDue to the hands-on nature of these classes\, class size is limited to 20 students per two-day class session. \nREGISTRATION: \n\n\n\nThis class is currently full and not accepting new registrations.\nHowever\, spaces may become available if there are cancellations.\nTo join a waitlist for Chester\, please email Molly Avery  (contact info below) and  include the following details with your request.\n\n\n\n\n\n\n\n\nYour First and Last Name\n\n\n\n\nEmail Address\n\n\n\n\nPhone Number (including area code)\n\n\n\n\nCompany Name\n\n\n\n\nFirst and Last Name of Person to be Invoiced\n\n\n\n\nEmail Address of Person to be Invoiced\n\n\n\n\nPhone Number of Person to be Invoiced (including area code)\n\n\n\n\n\nFor additional information about this session\, contact: \nMolly Avery | mavery@va811.com | (757) 759-0052 \n 
URL:https://va811.com/event/staking-university-locator-certification-training-chester-va/
LOCATION:Columbia Gas of Virginia Training Center\, 1812 Coyote Dr.\, Chester\, VA\, 23836\, United States
CATEGORIES:Training
END:VEVENT
END:VCALENDAR