BEGIN:VCALENDAR
VERSION:2.0
PRODID:-//Virginia811 - ECPv6.15.16//NONSGML v1.0//EN
CALSCALE:GREGORIAN
METHOD:PUBLISH
X-WR-CALNAME:Virginia811
X-ORIGINAL-URL:https://va811.com
X-WR-CALDESC:Events for Virginia811
REFRESH-INTERVAL;VALUE=DURATION:PT1H
X-Robots-Tag:noindex
X-PUBLISHED-TTL:PT1H
BEGIN:VTIMEZONE
TZID:America/Detroit
BEGIN:DAYLIGHT
TZOFFSETFROM:-0500
TZOFFSETTO:-0400
TZNAME:EDT
DTSTART:20230312T070000
END:DAYLIGHT
BEGIN:STANDARD
TZOFFSETFROM:-0400
TZOFFSETTO:-0500
TZNAME:EST
DTSTART:20231105T060000
END:STANDARD
BEGIN:DAYLIGHT
TZOFFSETFROM:-0500
TZOFFSETTO:-0400
TZNAME:EDT
DTSTART:20240310T070000
END:DAYLIGHT
BEGIN:STANDARD
TZOFFSETFROM:-0400
TZOFFSETTO:-0500
TZNAME:EST
DTSTART:20241103T060000
END:STANDARD
BEGIN:DAYLIGHT
TZOFFSETFROM:-0500
TZOFFSETTO:-0400
TZNAME:EDT
DTSTART:20250309T070000
END:DAYLIGHT
BEGIN:STANDARD
TZOFFSETFROM:-0400
TZOFFSETTO:-0500
TZNAME:EST
DTSTART:20251102T060000
END:STANDARD
END:VTIMEZONE
BEGIN:VEVENT
DTSTART;TZID=America/Detroit:20241016T173000
DTEND;TZID=America/Detroit:20241016T190000
DTSTAMP:20260423T052316
CREATED:20240716T001104Z
LAST-MODIFIED:20240908T144502Z
UID:19716-1729099800-1729105200@va811.com
SUMMARY:Paradigm CoRE-EX Training - Lebanon VA
DESCRIPTION:Wednesday\nOctober 16\, 2024\n5:30 PM  \nLebanon\, VA\nRussell County Conference Center \n139 Highland Dr. \nLebanon\, VA 24266-7145 \nREGISTER:  HERE \nOr visit the Paradigm Training site for further details: \nhttps://va.pipeline-awareness.com/meeting_schedule \nCounties: \nBuchanan\, Dickenson\, Russell\, Tazewell \nSponsors: \nAppalachian Energy Inc. \nAppalachian Natural Gas \nCNX Resources Corporation – Virginia Operations \nDiversified Energy Company \nEnbridge Energy Company\, Inc \nEnerVest Operating LLC
URL:https://va811.com/event/paradigm-core-ex-training-lebanon-va/
LOCATION:Russell County Conference Center\, 139 Highland Dr.\, Lebanon\, VA\, 24266-7145\, United States
CATEGORIES:Training
END:VEVENT
END:VCALENDAR