BEGIN:VCALENDAR
VERSION:2.0
PRODID:-//Virginia811 - ECPv6.15.16//NONSGML v1.0//EN
CALSCALE:GREGORIAN
METHOD:PUBLISH
X-ORIGINAL-URL:https://va811.com
X-WR-CALDESC:Events for Virginia811
REFRESH-INTERVAL;VALUE=DURATION:PT1H
X-Robots-Tag:noindex
X-PUBLISHED-TTL:PT1H
BEGIN:VTIMEZONE
TZID:America/Detroit
BEGIN:DAYLIGHT
TZOFFSETFROM:-0500
TZOFFSETTO:-0400
TZNAME:EDT
DTSTART:20230312T070000
END:DAYLIGHT
BEGIN:STANDARD
TZOFFSETFROM:-0400
TZOFFSETTO:-0500
TZNAME:EST
DTSTART:20231105T060000
END:STANDARD
BEGIN:DAYLIGHT
TZOFFSETFROM:-0500
TZOFFSETTO:-0400
TZNAME:EDT
DTSTART:20240310T070000
END:DAYLIGHT
BEGIN:STANDARD
TZOFFSETFROM:-0400
TZOFFSETTO:-0500
TZNAME:EST
DTSTART:20241103T060000
END:STANDARD
BEGIN:DAYLIGHT
TZOFFSETFROM:-0500
TZOFFSETTO:-0400
TZNAME:EDT
DTSTART:20250309T070000
END:DAYLIGHT
BEGIN:STANDARD
TZOFFSETFROM:-0400
TZOFFSETTO:-0500
TZNAME:EST
DTSTART:20251102T060000
END:STANDARD
END:VTIMEZONE
BEGIN:VEVENT
DTSTART;TZID=America/Detroit:20241010T073000
DTEND;TZID=America/Detroit:20241010T090000
DTSTAMP:20260423T052740
CREATED:20240716T000005Z
LAST-MODIFIED:20240908T144207Z
UID:19707-1728545400-1728550800@va811.com
SUMMARY:Paradigm CoRE-EX Training - Blacksburg VA
DESCRIPTION:Thursday\nOctober 10\, 2024\n7:30 AM\nBlacksburg\, VA\nBlacksburg Parks & Recreation \n615 Patrick Henry Dr. \nBlacksburg\, VA 24060-3136 \nREGISTER:  HERE \nOr visit the Paradigm Training site for further details: \nhttps://va.pipeline-awareness.com/meeting_schedule \nCounties: \nBland\, Floyd\, Giles\, Montgomery\, Pulaski\, Radford \nSponsors: \nAtmos Energy \nColumbia Gas of Virginia \nEnbridge Energy Company\, Inc \nTC Energy – Columbia Gas Transmission\, LLC
URL:https://va811.com/event/paradigm-core-ex-training-blacksburg-va/
LOCATION:Blacksburg Parks & Recreation\, 615 Patrick Henry Dr.\, Blacksburg\, VA\, 24060-3136\, United States
CATEGORIES:Training
END:VEVENT
BEGIN:VEVENT
DTSTART;TZID=America/Detroit:20241010T173000
DTEND;TZID=America/Detroit:20241010T190000
DTSTAMP:20260423T052740
CREATED:20240716T000344Z
LAST-MODIFIED:20240908T144245Z
UID:19710-1728581400-1728586800@va811.com
SUMMARY:Paradigm CoRE-EX Training - Blacksburg VA
DESCRIPTION:Thursday\nOctober 10\, 2024\n5:30 PM\nBlacksburg\, VA\nBlacksburg Community Center \n725 Patrick Henry Dr. \nBlacksburg\, VA 24060-3138 \nREGISTER:  HERE \nOr visit the Paradigm Training site for further details: \nhttps://va.pipeline-awareness.com/meeting_schedule \nCounties: \nBland\, Craig\, Floyd\, Giles\, Montgomery\, Pulaski\, Radford \nSponsors: \nAtmos Energy \nColumbia Gas of Virginia \nEnbridge Energy Company\, Inc \nTC Energy – Columbia Gas Transmission\, LLC
URL:https://va811.com/event/paradigm-core-ex-training-blacksburg-va-2/
LOCATION:Blacksburg Community Center\, 725 Patrick Henry Dr.\, Blacksburg\, VA\, 24060-3138\, United States
CATEGORIES:Training
END:VEVENT
END:VCALENDAR