BEGIN:VCALENDAR
VERSION:2.0
PRODID:-//Virginia811 - ECPv6.15.16//NONSGML v1.0//EN
CALSCALE:GREGORIAN
METHOD:PUBLISH
X-WR-CALNAME:Virginia811
X-ORIGINAL-URL:https://va811.com
X-WR-CALDESC:Events for Virginia811
REFRESH-INTERVAL;VALUE=DURATION:PT1H
X-Robots-Tag:noindex
X-PUBLISHED-TTL:PT1H
BEGIN:VTIMEZONE
TZID:America/Detroit
BEGIN:DAYLIGHT
TZOFFSETFROM:-0500
TZOFFSETTO:-0400
TZNAME:EDT
DTSTART:20230312T070000
END:DAYLIGHT
BEGIN:STANDARD
TZOFFSETFROM:-0400
TZOFFSETTO:-0500
TZNAME:EST
DTSTART:20231105T060000
END:STANDARD
BEGIN:DAYLIGHT
TZOFFSETFROM:-0500
TZOFFSETTO:-0400
TZNAME:EDT
DTSTART:20240310T070000
END:DAYLIGHT
BEGIN:STANDARD
TZOFFSETFROM:-0400
TZOFFSETTO:-0500
TZNAME:EST
DTSTART:20241103T060000
END:STANDARD
BEGIN:DAYLIGHT
TZOFFSETFROM:-0500
TZOFFSETTO:-0400
TZNAME:EDT
DTSTART:20250309T070000
END:DAYLIGHT
BEGIN:STANDARD
TZOFFSETFROM:-0400
TZOFFSETTO:-0500
TZNAME:EST
DTSTART:20251102T060000
END:STANDARD
END:VTIMEZONE
BEGIN:VEVENT
DTSTART;TZID=America/Detroit:20241008T173000
DTEND;TZID=America/Detroit:20241008T190000
DTSTAMP:20260423T052307
CREATED:20240715T235229Z
LAST-MODIFIED:20240908T144051Z
UID:19700-1728408600-1728414000@va811.com
SUMMARY:Paradigm CoRE-EX Training - Martinsville
DESCRIPTION:Tuesday\nOctober 8\, 2024\n5:30 PM\nMartinsville\, VA\nChatmoss Country Club \n550 Mount Olivet Rd. \nMartinsville\, VA 24112 \nREGISTER:  HERE \nOr visit the Paradigm Training site for further details: \nhttps://va.pipeline-awareness.com/meeting_schedule \nCounties: \nCarroll\, Franklin\, Henry\, Martinsville\, Patrick \nSponsors: \nEnbridge Energy Company\, Inc \nSouthwestern Virginia Gas
URL:https://va811.com/event/19700/
LOCATION:Chatmoss Country Club\, 550 Mount Olivet Rd. \, Martinsville\, VA\, 24112\, United States
CATEGORIES:Training
END:VEVENT
END:VCALENDAR