BEGIN:VCALENDAR
VERSION:2.0
PRODID:-//Virginia811 - ECPv6.15.16//NONSGML v1.0//EN
CALSCALE:GREGORIAN
METHOD:PUBLISH
X-WR-CALNAME:Virginia811
X-ORIGINAL-URL:https://va811.com
X-WR-CALDESC:Events for Virginia811
REFRESH-INTERVAL;VALUE=DURATION:PT1H
X-Robots-Tag:noindex
X-PUBLISHED-TTL:PT1H
BEGIN:VTIMEZONE
TZID:America/Detroit
BEGIN:DAYLIGHT
TZOFFSETFROM:-0500
TZOFFSETTO:-0400
TZNAME:EDT
DTSTART:20230312T070000
END:DAYLIGHT
BEGIN:STANDARD
TZOFFSETFROM:-0400
TZOFFSETTO:-0500
TZNAME:EST
DTSTART:20231105T060000
END:STANDARD
BEGIN:DAYLIGHT
TZOFFSETFROM:-0500
TZOFFSETTO:-0400
TZNAME:EDT
DTSTART:20240310T070000
END:DAYLIGHT
BEGIN:STANDARD
TZOFFSETFROM:-0400
TZOFFSETTO:-0500
TZNAME:EST
DTSTART:20241103T060000
END:STANDARD
BEGIN:DAYLIGHT
TZOFFSETFROM:-0500
TZOFFSETTO:-0400
TZNAME:EDT
DTSTART:20250309T070000
END:DAYLIGHT
BEGIN:STANDARD
TZOFFSETFROM:-0400
TZOFFSETTO:-0500
TZNAME:EST
DTSTART:20251102T060000
END:STANDARD
END:VTIMEZONE
BEGIN:VEVENT
DTSTART;TZID=America/Detroit:20241003T173000
DTEND;TZID=America/Detroit:20241003T190000
DTSTAMP:20260423T052348
CREATED:20240715T234852Z
LAST-MODIFIED:20240908T144020Z
UID:19696-1727976600-1727982000@va811.com
SUMMARY:Paradigm CoRE-EX Training - South Boston VA
DESCRIPTION:Thursday\nOctober 3\, 2024\n5:30 PM  \nSouth Boston\, VA\nWashington Coleman Community Center \n1927 Jeffress Blvd. \nSouth Boston\, VA 24592-1807 \nREGISTER:  HERE \nOr visit the Paradigm Training site for further details: \nhttps://va.pipeline-awareness.com/meeting_schedule \nCounties: \nDanville\, Halifax\, Mecklenburg\, Pittsylvania \nSponsors: \nColumbia Gas of Virginia
URL:https://va811.com/event/paradigm-core-ex-training-south-boston-va/
LOCATION:Washington Coleman Community Center\, 1927 Jeffress Blvd.\, South Boston\, VA\, 24592-1807\, United States
CATEGORIES:Training
END:VEVENT
END:VCALENDAR