BEGIN:VCALENDAR
VERSION:2.0
PRODID:-//Virginia811 - ECPv6.15.16//NONSGML v1.0//EN
CALSCALE:GREGORIAN
METHOD:PUBLISH
X-WR-CALNAME:Virginia811
X-ORIGINAL-URL:https://va811.com
X-WR-CALDESC:Events for Virginia811
REFRESH-INTERVAL;VALUE=DURATION:PT1H
X-Robots-Tag:noindex
X-PUBLISHED-TTL:PT1H
BEGIN:VTIMEZONE
TZID:America/Detroit
BEGIN:DAYLIGHT
TZOFFSETFROM:-0500
TZOFFSETTO:-0400
TZNAME:EDT
DTSTART:20230312T070000
END:DAYLIGHT
BEGIN:STANDARD
TZOFFSETFROM:-0400
TZOFFSETTO:-0500
TZNAME:EST
DTSTART:20231105T060000
END:STANDARD
BEGIN:DAYLIGHT
TZOFFSETFROM:-0500
TZOFFSETTO:-0400
TZNAME:EDT
DTSTART:20240310T070000
END:DAYLIGHT
BEGIN:STANDARD
TZOFFSETFROM:-0400
TZOFFSETTO:-0500
TZNAME:EST
DTSTART:20241103T060000
END:STANDARD
BEGIN:DAYLIGHT
TZOFFSETFROM:-0500
TZOFFSETTO:-0400
TZNAME:EDT
DTSTART:20250309T070000
END:DAYLIGHT
BEGIN:STANDARD
TZOFFSETFROM:-0400
TZOFFSETTO:-0500
TZNAME:EST
DTSTART:20251102T060000
END:STANDARD
END:VTIMEZONE
BEGIN:VEVENT
DTSTART;TZID=America/Detroit:20240911T110000
DTEND;TZID=America/Detroit:20240911T123000
DTSTAMP:20260423T064308
CREATED:20240715T224345Z
LAST-MODIFIED:20240908T143129Z
UID:19643-1726052400-1726057800@va811.com
SUMMARY:Paradigm CoRE-EX Training - Smithfield VA
DESCRIPTION:Wednesday\nSeptember 11\, 2024\n11:00 AM\nSmithfield\, VA\n  \nPaul D Camp Community College \n253 James St. \nSmithfield\, VA 23430-1115 \n  \nREGISTER:  HERE \nOr visit the Paradigm Training site for further details: \n VA.pipeline-awareness.com/meeting_schedule \n  \nCounties: \nIsle of Wight\, Surry \nSponsors: \nColumbia Gas of Virginia  |  TC Energy  | Columbia Gas Transmission\, LLC
URL:https://va811.com/event/paradigm-core-ex-training-smithfield-va/
LOCATION:Paul D Camp Community College\, 253 James St.\, Smithfield\, VA\, 23430-1115\, United States
CATEGORIES:Training
END:VEVENT
END:VCALENDAR