BEGIN:VCALENDAR
VERSION:2.0
PRODID:-//Virginia811 - ECPv6.15.16//NONSGML v1.0//EN
CALSCALE:GREGORIAN
METHOD:PUBLISH
X-WR-CALNAME:Virginia811
X-ORIGINAL-URL:https://va811.com
X-WR-CALDESC:Events for Virginia811
REFRESH-INTERVAL;VALUE=DURATION:PT1H
X-Robots-Tag:noindex
X-PUBLISHED-TTL:PT1H
BEGIN:VTIMEZONE
TZID:America/New_York
BEGIN:DAYLIGHT
TZOFFSETFROM:-0500
TZOFFSETTO:-0400
TZNAME:EDT
DTSTART:20220313T070000
END:DAYLIGHT
BEGIN:STANDARD
TZOFFSETFROM:-0400
TZOFFSETTO:-0500
TZNAME:EST
DTSTART:20221106T060000
END:STANDARD
BEGIN:DAYLIGHT
TZOFFSETFROM:-0500
TZOFFSETTO:-0400
TZNAME:EDT
DTSTART:20230312T070000
END:DAYLIGHT
BEGIN:STANDARD
TZOFFSETFROM:-0400
TZOFFSETTO:-0500
TZNAME:EST
DTSTART:20231105T060000
END:STANDARD
BEGIN:DAYLIGHT
TZOFFSETFROM:-0500
TZOFFSETTO:-0400
TZNAME:EDT
DTSTART:20240310T070000
END:DAYLIGHT
BEGIN:STANDARD
TZOFFSETFROM:-0400
TZOFFSETTO:-0500
TZNAME:EST
DTSTART:20241103T060000
END:STANDARD
END:VTIMEZONE
BEGIN:VEVENT
DTSTART;TZID=America/New_York:20230530T100000
DTEND;TZID=America/New_York:20230530T120000
DTSTAMP:20260424T052316
CREATED:20230503T144357Z
LAST-MODIFIED:20230503T144357Z
UID:10528-1685440800-1685448000@va811.com
SUMMARY:Web Ticket Entry-instructor led training
DESCRIPTION:Looking to map more than a single address?  Join us for a virtual instructor led training on Web Ticket Entry.  Our instructor-led course\, conducted by qualified trainers\, gives you the ability to enter and map your own tickets!  We strive to give you the training and tools to confidently enter and map your own tickets\, at your own pace! \nPlease RSVP to WTE \nwte@va811.com
URL:https://va811.com/event/web-ticket-entry-instructor-led-training-20/
LOCATION:VA
CATEGORIES:Training
END:VEVENT
END:VCALENDAR