BEGIN:VCALENDAR
VERSION:2.0
PRODID:-//Virginia811 - ECPv6.15.16//NONSGML v1.0//EN
CALSCALE:GREGORIAN
METHOD:PUBLISH
X-WR-CALNAME:Virginia811
X-ORIGINAL-URL:https://va811.com
X-WR-CALDESC:Events for Virginia811
REFRESH-INTERVAL;VALUE=DURATION:PT1H
X-Robots-Tag:noindex
X-PUBLISHED-TTL:PT1H
BEGIN:VTIMEZONE
TZID:America/Detroit
BEGIN:DAYLIGHT
TZOFFSETFROM:-0500
TZOFFSETTO:-0400
TZNAME:EDT
DTSTART:20230312T070000
END:DAYLIGHT
BEGIN:STANDARD
TZOFFSETFROM:-0400
TZOFFSETTO:-0500
TZNAME:EST
DTSTART:20231105T060000
END:STANDARD
BEGIN:DAYLIGHT
TZOFFSETFROM:-0500
TZOFFSETTO:-0400
TZNAME:EDT
DTSTART:20240310T070000
END:DAYLIGHT
BEGIN:STANDARD
TZOFFSETFROM:-0400
TZOFFSETTO:-0500
TZNAME:EST
DTSTART:20241103T060000
END:STANDARD
BEGIN:DAYLIGHT
TZOFFSETFROM:-0500
TZOFFSETTO:-0400
TZNAME:EDT
DTSTART:20250309T070000
END:DAYLIGHT
BEGIN:STANDARD
TZOFFSETFROM:-0400
TZOFFSETTO:-0500
TZNAME:EST
DTSTART:20251102T060000
END:STANDARD
END:VTIMEZONE
BEGIN:VEVENT
DTSTART;TZID=America/Detroit:20240910T173000
DTEND;TZID=America/Detroit:20240910T190000
DTSTAMP:20260423T052143
CREATED:20240715T221955Z
LAST-MODIFIED:20240908T143050Z
UID:19629-1725989400-1725994800@va811.com
SUMMARY:Paradigm CoRE-EX Training  - VA Beach
DESCRIPTION:Tuesday\nSeptember 10\, 2024\n5:30 PM\nVirginia Beach\, VA\n  \nMoose Family Center 1198 \n3133 Shipps Corner Rd. \nVirginia Beach\, VA 23453-2925 \nRSVP:  HERE \nCounties: \nChesapeake\, Portsmouth\, Suffolk\, Virginia Beach \nSponsors: \nColumbia Gas of Virginia. |  Sunoco\, LLC  |  TC Energy  |  Columbia Gas Transmission\, LLC
URL:https://va811.com/event/19629/
LOCATION:Moose Family Center 1198\, 3133 Shipps Corner Rd.\, Virginia Beach\, VA\, 23453-2925\, United States
CATEGORIES:Training
END:VEVENT
BEGIN:VEVENT
DTSTART;TZID=America/Detroit:20240911T110000
DTEND;TZID=America/Detroit:20240911T123000
DTSTAMP:20260423T052143
CREATED:20240715T224345Z
LAST-MODIFIED:20240908T143129Z
UID:19643-1726052400-1726057800@va811.com
SUMMARY:Paradigm CoRE-EX Training - Smithfield VA
DESCRIPTION:Wednesday\nSeptember 11\, 2024\n11:00 AM\nSmithfield\, VA\n  \nPaul D Camp Community College \n253 James St. \nSmithfield\, VA 23430-1115 \n  \nREGISTER:  HERE \nOr visit the Paradigm Training site for further details: \n VA.pipeline-awareness.com/meeting_schedule \n  \nCounties: \nIsle of Wight\, Surry \nSponsors: \nColumbia Gas of Virginia  |  TC Energy  | Columbia Gas Transmission\, LLC
URL:https://va811.com/event/paradigm-core-ex-training-smithfield-va/
LOCATION:Paul D Camp Community College\, 253 James St.\, Smithfield\, VA\, 23430-1115\, United States
CATEGORIES:Training
END:VEVENT
BEGIN:VEVENT
DTSTART;TZID=America/Detroit:20240912T110000
DTEND;TZID=America/Detroit:20240912T123000
DTSTAMP:20260423T052143
CREATED:20240715T225205Z
LAST-MODIFIED:20240908T143201Z
UID:19648-1726138800-1726144200@va811.com
SUMMARY:Paradigm CoRE-EX Training - Emporia VA
DESCRIPTION:Thursday\nSeptember 12\, 2024\n11:00 AM \nEmporia\, VA\n  \nGolden Leaf Commons \n1300 Greensville County Circle  \nSuite B \nEmporia\, VA 23847-6351 \n  \nREGISTER:  HERE \nOr visit the Paradigm Training site for further details: \nhttps://va.pipeline-awareness.com/meeting_schedule \n  \nCounties: \nBrunswick\, Emporia\, Franklin\, Greensville\, Southampton\, Sussex \nSponsors: \nColumbia Gas of Virginia \nTC Energy  |  Columbia Gas Transmission\, LLC
URL:https://va811.com/event/paradigm-core-ex-training-emporia-va/
LOCATION:Golden Leaf Commons\, 1300 Greensville Country Circle\, Emporia\, VA\, 23847\, United States
CATEGORIES:Training
END:VEVENT
BEGIN:VEVENT
DTSTART;TZID=America/Detroit:20240916T173000
DTEND;TZID=America/Detroit:20240916T190000
DTSTAMP:20260423T052143
CREATED:20240715T230002Z
LAST-MODIFIED:20240908T143243Z
UID:19656-1726507800-1726513200@va811.com
SUMMARY:Paradigm CoRE-EX Training - Colonial Heights VA
DESCRIPTION:Monday\nSeptember 16\, 2024\n5:30 PM\nColonial Heights\, VA\n  \nDelta Hotels Colonial Heights \n401 E Roslyn Rd. \nColonial Heights\, VA 23834-3625 \n  \nREGISTER:  HERE \nOr visit the Paradigm Training site for further details: \nhttps://va.pipeline-awareness.com/meeting_schedule \nCounties: \nChesterfield\, Colonial Heights\, Dinwiddie\, Goochland\, Hanover\, Henrico\, Hopewell\, James City\, Petersburg\, Powhatan\, Prince George\, Richmond \nSponsors: \nColumbia Gas of Virginia. | Eastern Gas Transmission and Storage  |  TC Energy  |   Columbia Gas Transmission\, LLC
URL:https://va811.com/event/paradigm-core-ex-training-colonial-heights-va/
LOCATION:Delta Hotels Colonial Heights\, 401 E Roslyn Rd.\, Colonial Heights\, VA\, 23834-3625\, United States
CATEGORIES:Training
END:VEVENT
BEGIN:VEVENT
DTSTART;TZID=America/Detroit:20240917T110000
DTEND;TZID=America/Detroit:20240917T123000
DTSTAMP:20260423T052143
CREATED:20240715T231031Z
LAST-MODIFIED:20240908T143327Z
UID:19667-1726570800-1726576200@va811.com
SUMMARY:Paradigm CoRE-EX Training - Sandston VA
DESCRIPTION:Tuesday\nSeptember 17\, 2024\n11:00 AM\nSandston\, VA\n  \nHilton Garden Inn-Richmond \n441 International Center Dr. \nSandston\, VA 23150-1336 \n  \nREGISTER:  HERE \nOr visit the Paradigm Training site for further details: \nhttps://va.pipeline-awareness.com/meeting_schedule \nCounties: \nCaroline\, Chesterfield\, Colonial Heights\, Dinwiddie\, Goochland\, Hanover\, Henrico\, Hopewell\, James City\, Petersburg\, Powhatan\, Prince George\, Richmond \nSponsors: \nColumbia Gas of Virginia  |  Eastern Gas Transmission and Storage  |  TC Energy  |  Columbia Gas Transmission\, LLC
URL:https://va811.com/event/paradigm-core-ex-training-sandston-va/
LOCATION:Hilton Garden Inn-Richmond\, 441 International Center Dr.\, Sandston\, VA\, 23150-1336\, United States
CATEGORIES:Training
END:VEVENT
BEGIN:VEVENT
DTSTART;TZID=America/Detroit:20240918T110000
DTEND;TZID=America/Detroit:20240918T123000
DTSTAMP:20260423T052143
CREATED:20240715T231440Z
LAST-MODIFIED:20240908T143457Z
UID:19670-1726657200-1726662600@va811.com
SUMMARY:Paradigm CoRE-EX Training - Fredericksburg
DESCRIPTION:Wednesday\nSeptember 18\, 2024\n11:00 AM \nFredericksburg\, VA\n  \nThemes LLC \n10625 Courthouse Rd. \nFredericksburg\, VA 22407-1665 \n  \nREGISTER:  HERE \nOr visit the Paradigm Training site for further details: \nhttps://va.pipeline-awareness.com/meeting_schedule \nCounties: \nFredericksburg\, Spotsylvania\, Stafford \n10625 Courthouse Rd \nFredericksburg\, VA 22407-1665 \nSponsors: \nColumbia Gas of Virginia
URL:https://va811.com/event/paradigm-core-ex-training-fredericksburg/
LOCATION:Themes LLC\, 10625 Courthouse Rd.\, Fredericksburg\, VA\, 22407-1665\, United States
CATEGORIES:Training
END:VEVENT
BEGIN:VEVENT
DTSTART;TZID=America/Detroit:20240919T173000
DTEND;TZID=America/Detroit:20240919T190000
DTSTAMP:20260423T052143
CREATED:20240715T231829Z
LAST-MODIFIED:20240908T143524Z
UID:19673-1726767000-1726772400@va811.com
SUMMARY:Paradigm CoRE-EX Training - Culpeper
DESCRIPTION:Thursday\nSeptember 19\, 2024\n5:30 PM\nCulpeper\, VA\n  \nCountry Club of Culpeper \n2100 Country Club Rd. \nCulpeper\, VA 22701-3377 \nREGISTER:  HERE \nOr visit the Paradigm Training site for further details: \nhttps://va.pipeline-awareness.com/meeting_schedule \nCounties: \nCulpeper\, Fauquier\, Madison\, Orange\, Page \nSponsors: \nColumbia Gas of Virginia \nEastern Gas Transmission and Storage \nTC Energy – Columbia Gas Transmission\, LLC
URL:https://va811.com/event/paradigm-core-ex-training-culpeper/
LOCATION:Country Club of Culpeper\, 2100 Country Club Rd.\, Culpeper\, VA\, 22701-3377\, United States
CATEGORIES:Training
END:VEVENT
BEGIN:VEVENT
DTSTART;TZID=America/Detroit:20240923T110000
DTEND;TZID=America/Detroit:20240923T123000
DTSTAMP:20260423T052143
CREATED:20240715T232233Z
LAST-MODIFIED:20240908T143612Z
UID:19676-1727089200-1727094600@va811.com
SUMMARY:Paradigm CoRE-EX Training - Manassas VA
DESCRIPTION:Monday\nSeptember 23\, 2024\n11:00 AM\nManassas\, VA\n  \nHoliday Inn Manassas-Battlefield  \n10424 Balls Ford Rd. \nManassas\, VA 20109-2602 \nREGISTER:  HERE \nOr visit the Paradigm Training site for further details: \nhttps://va.pipeline-awareness.com/meeting_schedule \nCounties: \nFairfax\, Fairfax\, Loudoun\, Manassas Park\, Manassas\, Prince William \nSponsors: \nColumbia Gas of Virginia \nEastern Gas Transmission and Storage \nLES Project Holdings\, LLC \nTC Energy – Columbia Gas Transmission\, LLC
URL:https://va811.com/event/paradigm-core-ex-training-manassas-va/
LOCATION:Holiday Inn Manassas-Battlefield\, 10424 Balls Ford Rd.\, Manassas\, VA\, 20109-2602\, United States
CATEGORIES:Training
END:VEVENT
BEGIN:VEVENT
DTSTART;TZID=America/Detroit:20240924T173000
DTEND;TZID=America/Detroit:20240924T190000
DTSTAMP:20260423T052143
CREATED:20240715T232607Z
LAST-MODIFIED:20240908T143700Z
UID:19679-1727199000-1727204400@va811.com
SUMMARY:Paradigm CoRE-EX Training - Front Royal
DESCRIPTION:Tuesday\nSeptember 24\, 2024\n5:30 PM\nFront Royal\, VA\n  \nFront Royal Volunteer Rescue Dept. \n221 N. Commerce Ave. \nFront Royal\, VA 22630-4420 \nREGISTER:  HERE \nOr visit the Paradigm Training site for further details: \nhttps://va.pipeline-awareness.com/meeting_schedule \nCounties: \nClarke\, Warren \nSponsors: \nColumbia Gas of Virginia \nEastern Gas Transmission and Storage \nTC Energy – Columbia Gas Transmission\, LLC
URL:https://va811.com/event/paradigm-core-ex-training-front-royal/
LOCATION:Front Royal Volunteer Rescue Dept.\, 221 N. Commerce Ave.\, Front Royal\, VA\, 22630-4420\, United States
CATEGORIES:Training
END:VEVENT
BEGIN:VEVENT
DTSTART;TZID=America/Detroit:20240925T173000
DTEND;TZID=America/Detroit:20240925T190000
DTSTAMP:20260423T052143
CREATED:20240715T233054Z
LAST-MODIFIED:20240908T143738Z
UID:19683-1727285400-1727290800@va811.com
SUMMARY:Paradigm CoRE-EX Training - Harrisonburg VA
DESCRIPTION:Wednesday\nSeptember 25\, 2024\n5:30 PM  \nHarrisonburg\, VA\n  \nDoubletree By Hilton \n1400 E Market St. \nHarrisonburg\, VA 22801-5110 \nREGISTER:  HERE \nOr visit the Paradigm Training site for further details: \nhttps://va.pipeline-awareness.com/meeting_schedule \nCounties: \nAugusta\, Harrisonburg\, Rockingham\, Shenandoah\, Staunton\, Waynesboro \nSponsors: \nColumbia Gas of Virginia \nTC Energy – Columbia Gas Transmission\, LLC
URL:https://va811.com/event/paradigm-core-ex-training-harrisonburg-va/
LOCATION:Doubletree By Hilton\, 1400 E Market St.\, Harrisonburg\, VA\, 22801-5110\, United States
CATEGORIES:Training
END:VEVENT
BEGIN:VEVENT
DTSTART;TZID=America/Detroit:20240926T173000
DTEND;TZID=America/Detroit:20240926T190000
DTSTAMP:20260423T052143
CREATED:20240715T233441Z
LAST-MODIFIED:20240908T143817Z
UID:19686-1727371800-1727377200@va811.com
SUMMARY:Paradigm CoRE-EX Training - Ruckersville VA
DESCRIPTION:Thursday\nSeptember 26\, 2024\n5:30 PM  \nRuckersville\, VA\nBlue Ridge Cafe & Catering \n8315 Seminole Trail  \nSuite 5 \nRuckersville\, VA 22968-3478 \nREGISTER:  HERE \nOr visit the Paradigm Training site for further details: \nhttps://va.pipeline-awareness.com/meeting_schedule \nCounties: \nAlbemarle\, Charlottesville\, Greene \nSponsors: \nColumbia Gas of Virginia \nTC Energy – Columbia Gas Transmission\, LLC
URL:https://va811.com/event/paradigm-core-ex-training-ruckersville-va/
LOCATION:Blue Ridge Cafe & Catering\, 8315 Seminole Trail Suite 5\, Ruckersville\, VA\, 22968\, United States
CATEGORIES:Training
END:VEVENT
END:VCALENDAR