BEGIN:VCALENDAR
VERSION:2.0
PRODID:-//Virginia811 - ECPv6.15.16//NONSGML v1.0//EN
CALSCALE:GREGORIAN
METHOD:PUBLISH
X-WR-CALNAME:Virginia811
X-ORIGINAL-URL:https://va811.com
X-WR-CALDESC:Events for Virginia811
REFRESH-INTERVAL;VALUE=DURATION:PT1H
X-Robots-Tag:noindex
X-PUBLISHED-TTL:PT1H
BEGIN:VTIMEZONE
TZID:America/Detroit
BEGIN:DAYLIGHT
TZOFFSETFROM:-0500
TZOFFSETTO:-0400
TZNAME:EDT
DTSTART:20240310T070000
END:DAYLIGHT
BEGIN:STANDARD
TZOFFSETFROM:-0400
TZOFFSETTO:-0500
TZNAME:EST
DTSTART:20241103T060000
END:STANDARD
BEGIN:DAYLIGHT
TZOFFSETFROM:-0500
TZOFFSETTO:-0400
TZNAME:EDT
DTSTART:20250309T070000
END:DAYLIGHT
BEGIN:STANDARD
TZOFFSETFROM:-0400
TZOFFSETTO:-0500
TZNAME:EST
DTSTART:20251102T060000
END:STANDARD
BEGIN:DAYLIGHT
TZOFFSETFROM:-0500
TZOFFSETTO:-0400
TZNAME:EDT
DTSTART:20260308T070000
END:DAYLIGHT
BEGIN:STANDARD
TZOFFSETFROM:-0400
TZOFFSETTO:-0500
TZNAME:EST
DTSTART:20261101T060000
END:STANDARD
END:VTIMEZONE
BEGIN:VEVENT
DTSTART;TZID=America/Detroit:20250430T120000
DTEND;TZID=America/Detroit:20250430T140000
DTSTAMP:20260422T091112
CREATED:20250228T121130Z
LAST-MODIFIED:20250330T125656Z
UID:21164-1746014400-1746021600@va811.com
SUMMARY:LDPC Meeting  | Central Virginia Region 1 | Ashland
DESCRIPTION:LDPC Meeting\nCentral Virginia Region 1 | Ashland\nWednesday \nApril 30\, 2025 \n12:00 PM – 2:00 PM \nCountry Inn &.Suites By Radisson \n11600 Lakeridge Parkway \nAshland\, VA 23005 \nAGENDA \nWelcome \nSCC & VA811 Updates \nHanover County Sheriff Dept- Crime Prevention \nOpen Discussion \nLunch generously provided by Badger\, Inc. \nRSVP HERE:  https://lp.constantcontactpages.com/ev/reg/c6pvtgz \n  \nHelp Spread the Word by Sharing This Meeting \nThis QR code is perfect for print materials\, emails\, and social media posts\, providing easy access to meeting details. It’s also great for sharing on-site in the field. \nRight-click to download or copy the QR code.
URL:https://va811.com/event/ldpc-meeting-central-virginia-region-1-ashland/
LOCATION:Country Inn & Suites by Radisson\, Hanover-Ashland\, VA\, 11600 Lakeridge Parkway\, Ashland\, VA\, 23005\, United States
CATEGORIES:LDPC
END:VEVENT
END:VCALENDAR