BEGIN:VCALENDAR
VERSION:2.0
PRODID:-//Virginia811 - ECPv6.15.16//NONSGML v1.0//EN
CALSCALE:GREGORIAN
METHOD:PUBLISH
X-WR-CALNAME:Virginia811
X-ORIGINAL-URL:https://va811.com
X-WR-CALDESC:Events for Virginia811
REFRESH-INTERVAL;VALUE=DURATION:PT1H
X-Robots-Tag:noindex
X-PUBLISHED-TTL:PT1H
BEGIN:VTIMEZONE
TZID:America/Detroit
BEGIN:DAYLIGHT
TZOFFSETFROM:-0500
TZOFFSETTO:-0400
TZNAME:EDT
DTSTART:20240310T070000
END:DAYLIGHT
BEGIN:STANDARD
TZOFFSETFROM:-0400
TZOFFSETTO:-0500
TZNAME:EST
DTSTART:20241103T060000
END:STANDARD
BEGIN:DAYLIGHT
TZOFFSETFROM:-0500
TZOFFSETTO:-0400
TZNAME:EDT
DTSTART:20250309T070000
END:DAYLIGHT
BEGIN:STANDARD
TZOFFSETFROM:-0400
TZOFFSETTO:-0500
TZNAME:EST
DTSTART:20251102T060000
END:STANDARD
BEGIN:DAYLIGHT
TZOFFSETFROM:-0500
TZOFFSETTO:-0400
TZNAME:EDT
DTSTART:20260308T070000
END:DAYLIGHT
BEGIN:STANDARD
TZOFFSETFROM:-0400
TZOFFSETTO:-0500
TZNAME:EST
DTSTART:20261101T060000
END:STANDARD
END:VTIMEZONE
BEGIN:VEVENT
DTSTART;TZID=America/Detroit:20250417T140000
DTEND;TZID=America/Detroit:20250417T153000
DTSTAMP:20260422T104609
CREATED:20250320T172922Z
LAST-MODIFIED:20250320T172953Z
UID:21669-1744898400-1744903800@va811.com
SUMMARY:LDPC Meeting | Southwest VA Region 1 | Danville
DESCRIPTION:LDPC Meeting | Southwest VA Region 1 | Danville\nThursday \nApril 17\, 2025 \n2:00 PM – 3:30 PM \nPepsi Cola Building  \n661 Craghead St. \nDanville\, VA 24541 \nREGISTER HERE: https://lp.constantcontactpages.com/ev/reg/638jsg9 \nHelp Spread the Word by Sharing This Meeting \nThis QR code is perfect for print materials\, emails\, and social media posts\, providing easy access to meeting details. It’s also great for sharing on-site in the field. \nRight-click to download or copy the QR code.
URL:https://va811.com/event/ldpc-meeting-southwest-va-region-1-danville/
LOCATION:Pepsi Cola Building\, 661 Craghead St.\, Danville\, VA\, 24541\, United States
CATEGORIES:LDPC
END:VEVENT
END:VCALENDAR