BEGIN:VCALENDAR
VERSION:2.0
PRODID:-//Virginia811 - ECPv6.15.16//NONSGML v1.0//EN
CALSCALE:GREGORIAN
METHOD:PUBLISH
X-ORIGINAL-URL:https://va811.com
X-WR-CALDESC:Events for Virginia811
REFRESH-INTERVAL;VALUE=DURATION:PT1H
X-Robots-Tag:noindex
X-PUBLISHED-TTL:PT1H
BEGIN:VTIMEZONE
TZID:America/Detroit
BEGIN:DAYLIGHT
TZOFFSETFROM:-0500
TZOFFSETTO:-0400
TZNAME:EDT
DTSTART:20240310T070000
END:DAYLIGHT
BEGIN:STANDARD
TZOFFSETFROM:-0400
TZOFFSETTO:-0500
TZNAME:EST
DTSTART:20241103T060000
END:STANDARD
BEGIN:DAYLIGHT
TZOFFSETFROM:-0500
TZOFFSETTO:-0400
TZNAME:EDT
DTSTART:20250309T070000
END:DAYLIGHT
BEGIN:STANDARD
TZOFFSETFROM:-0400
TZOFFSETTO:-0500
TZNAME:EST
DTSTART:20251102T060000
END:STANDARD
BEGIN:DAYLIGHT
TZOFFSETFROM:-0500
TZOFFSETTO:-0400
TZNAME:EDT
DTSTART:20260308T070000
END:DAYLIGHT
BEGIN:STANDARD
TZOFFSETFROM:-0400
TZOFFSETTO:-0500
TZNAME:EST
DTSTART:20261101T060000
END:STANDARD
END:VTIMEZONE
BEGIN:VEVENT
DTSTART;TZID=America/Detroit:20250320T100000
DTEND;TZID=America/Detroit:20250320T123000
DTSTAMP:20260422T121713
CREATED:20250228T115354Z
LAST-MODIFIED:20250228T115435Z
UID:21158-1742464800-1742473800@va811.com
SUMMARY:LDPC Meeting | Eastern VA Region 3 | Suffolk
DESCRIPTION:LOCAL DAMAGE PREVENTION COMMITTEE (LDPC) Meeting  \nEastern VA Region 3 | Suffolk \nThursday \nMarch 20\, 2025 \n10:00 AM- 12:30 PM \nCity of Suffolk Public Works Administration \n800 Carolina Road \nSuffolk\, VA 23434 \nRSVP HERE: https://lp.constantcontactpages.com/ev/reg/wf2zqqf
URL:https://va811.com/event/ldpc-meeting-eastern-va-region-3-suffolk/
LOCATION:City of Suffolk – Public Works – Administration\, 800 Carolina Road\, Suffolk\, VA\, 23434\, United States
CATEGORIES:LDPC
END:VEVENT
END:VCALENDAR