BEGIN:VCALENDAR
VERSION:2.0
PRODID:-//Virginia811 - ECPv6.15.16//NONSGML v1.0//EN
CALSCALE:GREGORIAN
METHOD:PUBLISH
X-ORIGINAL-URL:https://va811.com
X-WR-CALDESC:Events for Virginia811
REFRESH-INTERVAL;VALUE=DURATION:PT1H
X-Robots-Tag:noindex
X-PUBLISHED-TTL:PT1H
BEGIN:VTIMEZONE
TZID:America/Detroit
BEGIN:DAYLIGHT
TZOFFSETFROM:-0500
TZOFFSETTO:-0400
TZNAME:EDT
DTSTART:20240310T070000
END:DAYLIGHT
BEGIN:STANDARD
TZOFFSETFROM:-0400
TZOFFSETTO:-0500
TZNAME:EST
DTSTART:20241103T060000
END:STANDARD
BEGIN:DAYLIGHT
TZOFFSETFROM:-0500
TZOFFSETTO:-0400
TZNAME:EDT
DTSTART:20250309T070000
END:DAYLIGHT
BEGIN:STANDARD
TZOFFSETFROM:-0400
TZOFFSETTO:-0500
TZNAME:EST
DTSTART:20251102T060000
END:STANDARD
BEGIN:DAYLIGHT
TZOFFSETFROM:-0500
TZOFFSETTO:-0400
TZNAME:EDT
DTSTART:20260308T070000
END:DAYLIGHT
BEGIN:STANDARD
TZOFFSETFROM:-0400
TZOFFSETTO:-0500
TZNAME:EST
DTSTART:20261101T060000
END:STANDARD
END:VTIMEZONE
BEGIN:VEVENT
DTSTART;TZID=America/Detroit:20250318T100000
DTEND;TZID=America/Detroit:20250318T113000
DTSTAMP:20260422T121713
CREATED:20250208T173810Z
LAST-MODIFIED:20250208T173924Z
UID:21094-1742292000-1742297400@va811.com
SUMMARY:LDPC Meeting | Southwest VA Region 7 | Waynesboro
DESCRIPTION:LDPC Meeting | Southwest VA Region 7 | Waynesboro\nTuesday \nMarch 18\, 2025 \n10:00 AM – 11:30 AM \nShentel Center \n1150 Shenandoah Village Drive   \nWaynesboro\, VA 22980 \nRegister Here: \nhttps://lp.constantcontactpages.com/ev/reg/tbdvccd
URL:https://va811.com/event/ldpc-meeting-southwest-va-region-7-waynesboro/
LOCATION:Shentel Center\, 1150 Shenandoah Village Dr.\, Waynesboro\, VA\, 22980\, United States
CATEGORIES:LDPC
END:VEVENT
BEGIN:VEVENT
DTSTART;TZID=America/Detroit:20250318T110000
DTEND;TZID=America/Detroit:20250318T130000
DTSTAMP:20260422T121713
CREATED:20250214T044242Z
LAST-MODIFIED:20250214T044920Z
UID:21121-1742295600-1742302800@va811.com
SUMMARY:LDPC Meeting | Eastern VA Region 1 | Hampton
DESCRIPTION:LDPC Meeting | Eastern VA Region 1 | Hampton\nTuesday \nMarch 18\, 2025 \n11:00 AM – 1:00 PM \n20 Basil Sawyer Drive \nHampton\, VA 23666 \nAGENDA \nWelcome \nUpdates from the SCC & Virginia 811 \nGuest Speaker | Michael Scales | Damage Investigations \nOpen Discussion \nRSVP: https://lp.constantcontactpages.com/ev/reg/s2hhck9 \n| Lunch Provided by S&N Communications |
URL:https://va811.com/event/ldpc-eastern-region-1-hampton/
LOCATION:20 Basil Sawyer Drive  Hampton\, VA 23666\, 20 Basil Sawyer Drive\, Hampton\, VA\, 23666\, United States
CATEGORIES:LDPC
END:VEVENT
END:VCALENDAR