BEGIN:VCALENDAR
VERSION:2.0
PRODID:-//Virginia811 - ECPv6.15.16//NONSGML v1.0//EN
CALSCALE:GREGORIAN
METHOD:PUBLISH
X-ORIGINAL-URL:https://va811.com
X-WR-CALDESC:Events for Virginia811
REFRESH-INTERVAL;VALUE=DURATION:PT1H
X-Robots-Tag:noindex
X-PUBLISHED-TTL:PT1H
BEGIN:VTIMEZONE
TZID:America/Detroit
BEGIN:DAYLIGHT
TZOFFSETFROM:-0500
TZOFFSETTO:-0400
TZNAME:EDT
DTSTART:20240310T070000
END:DAYLIGHT
BEGIN:STANDARD
TZOFFSETFROM:-0400
TZOFFSETTO:-0500
TZNAME:EST
DTSTART:20241103T060000
END:STANDARD
BEGIN:DAYLIGHT
TZOFFSETFROM:-0500
TZOFFSETTO:-0400
TZNAME:EDT
DTSTART:20250309T070000
END:DAYLIGHT
BEGIN:STANDARD
TZOFFSETFROM:-0400
TZOFFSETTO:-0500
TZNAME:EST
DTSTART:20251102T060000
END:STANDARD
BEGIN:DAYLIGHT
TZOFFSETFROM:-0500
TZOFFSETTO:-0400
TZNAME:EDT
DTSTART:20260308T070000
END:DAYLIGHT
BEGIN:STANDARD
TZOFFSETFROM:-0400
TZOFFSETTO:-0500
TZNAME:EST
DTSTART:20261101T060000
END:STANDARD
END:VTIMEZONE
BEGIN:VEVENT
DTSTART;TZID=America/Detroit:20250311T090000
DTEND;TZID=America/Detroit:20250311T110000
DTSTAMP:20260422T121712
CREATED:20250128T125700Z
LAST-MODIFIED:20250214T181752Z
UID:21024-1741683600-1741690800@va811.com
SUMMARY:LDPC Meeting | Central VA Region 3 | Chester
DESCRIPTION:Local Damage Prevention Committee (LDPC) Meeting\nCentral VA Region 3 | Chester\nTuesday | March 11\, 2025 \n9:00 AM – 11:00 AM \nColumbia Gas Training Center \n1812 Coyote Dr. \nChester\, VA\, 23831 \nAgenda \n\nWelcome & Introductions\nJob-Site Emergencies | Chesterfield County Fire Department Guest Speaker\nVirginia 811 Updates\nSCC Report\nOpen Discussion\n\nThis meeting is limited to 30 attendees\, so be sure to register in advance. \nRegister Here:  https://lp.constantcontactpages.com/ev/reg/7hqdja3
URL:https://va811.com/event/ldpc-meeting-central-va-region-3-chester/
LOCATION:Columbia Gas of VA Training Center\, 1812 Coyote Drive\, Chester\, VA\, 23836\, United States
CATEGORIES:LDPC
END:VEVENT
END:VCALENDAR