BEGIN:VCALENDAR
VERSION:2.0
PRODID:-//Virginia811 - ECPv6.15.16//NONSGML v1.0//EN
CALSCALE:GREGORIAN
METHOD:PUBLISH
X-WR-CALNAME:Virginia811
X-ORIGINAL-URL:https://va811.com
X-WR-CALDESC:Events for Virginia811
REFRESH-INTERVAL;VALUE=DURATION:PT1H
X-Robots-Tag:noindex
X-PUBLISHED-TTL:PT1H
BEGIN:VTIMEZONE
TZID:America/Detroit
BEGIN:DAYLIGHT
TZOFFSETFROM:-0500
TZOFFSETTO:-0400
TZNAME:EDT
DTSTART:20240310T070000
END:DAYLIGHT
BEGIN:STANDARD
TZOFFSETFROM:-0400
TZOFFSETTO:-0500
TZNAME:EST
DTSTART:20241103T060000
END:STANDARD
BEGIN:DAYLIGHT
TZOFFSETFROM:-0500
TZOFFSETTO:-0400
TZNAME:EDT
DTSTART:20250309T070000
END:DAYLIGHT
BEGIN:STANDARD
TZOFFSETFROM:-0400
TZOFFSETTO:-0500
TZNAME:EST
DTSTART:20251102T060000
END:STANDARD
BEGIN:DAYLIGHT
TZOFFSETFROM:-0500
TZOFFSETTO:-0400
TZNAME:EDT
DTSTART:20260308T070000
END:DAYLIGHT
BEGIN:STANDARD
TZOFFSETFROM:-0400
TZOFFSETTO:-0500
TZNAME:EST
DTSTART:20261101T060000
END:STANDARD
END:VTIMEZONE
BEGIN:VEVENT
DTSTART;TZID=America/Detroit:20250307T100000
DTEND;TZID=America/Detroit:20250307T120000
DTSTAMP:20260422T121426
CREATED:20250208T173100Z
LAST-MODIFIED:20250208T173212Z
UID:21089-1741341600-1741348800@va811.com
SUMMARY:LDPC Meeting | Northern VA Region 3 | Warsaw
DESCRIPTION:LDPC Meeting | Northern VA Region 3 | Warsaw\nFriday \nMarch 7\, 2025 \n10:00 AM – 12:00 PM \nLocation: \n173 Pine St. \nWarsaw\, VA 22572 \nRegister Here: \nhttps://lp.constantcontactpages.com/ev/reg/86u9dh8
URL:https://va811.com/event/ldpc-meeting-northern-va-region-3-warsaw/
LOCATION:Location\, 173 Pine St.\, Warsaw\, VA\, 22572\, United States
CATEGORIES:LDPC
END:VEVENT
END:VCALENDAR