BEGIN:VCALENDAR
VERSION:2.0
PRODID:-//Virginia811 - ECPv6.15.16//NONSGML v1.0//EN
CALSCALE:GREGORIAN
METHOD:PUBLISH
X-WR-CALNAME:Virginia811
X-ORIGINAL-URL:https://va811.com
X-WR-CALDESC:Events for Virginia811
REFRESH-INTERVAL;VALUE=DURATION:PT1H
X-Robots-Tag:noindex
X-PUBLISHED-TTL:PT1H
BEGIN:VTIMEZONE
TZID:America/Detroit
BEGIN:DAYLIGHT
TZOFFSETFROM:-0500
TZOFFSETTO:-0400
TZNAME:EDT
DTSTART:20230312T070000
END:DAYLIGHT
BEGIN:STANDARD
TZOFFSETFROM:-0400
TZOFFSETTO:-0500
TZNAME:EST
DTSTART:20231105T060000
END:STANDARD
BEGIN:DAYLIGHT
TZOFFSETFROM:-0500
TZOFFSETTO:-0400
TZNAME:EDT
DTSTART:20240310T070000
END:DAYLIGHT
BEGIN:STANDARD
TZOFFSETFROM:-0400
TZOFFSETTO:-0500
TZNAME:EST
DTSTART:20241103T060000
END:STANDARD
BEGIN:DAYLIGHT
TZOFFSETFROM:-0500
TZOFFSETTO:-0400
TZNAME:EDT
DTSTART:20250309T070000
END:DAYLIGHT
BEGIN:STANDARD
TZOFFSETFROM:-0400
TZOFFSETTO:-0500
TZNAME:EST
DTSTART:20251102T060000
END:STANDARD
END:VTIMEZONE
BEGIN:VEVENT
DTSTART;TZID=America/Detroit:20241212T090000
DTEND;TZID=America/Detroit:20241212T110000
DTSTAMP:20260422T170115
CREATED:20241118T034917Z
LAST-MODIFIED:20241118T035153Z
UID:20719-1733994000-1734001200@va811.com
SUMMARY:Central VA Region 1 LDPC Meeting  |  Ashland
DESCRIPTION:Central VA Region 1 LDPC Meeting – Ashland\nThursday \nDecember 12\, 2024 \n9:00 AM \nCountry Inn & Suites by Radisson\, Hanover-Ashland\, VA \n11600 Lakeridge Parkway \nAshland VA 23005 \nBreakfast provided by: Ditch Witch of Virginia \nAgenda: \nVA811 update \nVirginia Damage Prevention Summit recap from 10/10/24 \nERMA presentation by Scott Crawford\, Virginia 811 \nPlans for 2025 \nOpen Discussion \nRSVP HERE: https://lp.constantcontactpages.com/ev/reg/54a5h4a
URL:https://va811.com/event/central-va-region-1-ldpc-meeting-ashland/
LOCATION:Country Inn & Suites by Radisson\, Hanover-Ashland\, VA\, 11600 Lakeridge Parkway\, Ashland\, VA\, 23005\, United States
CATEGORIES:LDPC
END:VEVENT
END:VCALENDAR