BEGIN:VCALENDAR
VERSION:2.0
PRODID:-//Virginia811 - ECPv6.15.16//NONSGML v1.0//EN
CALSCALE:GREGORIAN
METHOD:PUBLISH
X-WR-CALNAME:Virginia811
X-ORIGINAL-URL:https://va811.com
X-WR-CALDESC:Events for Virginia811
REFRESH-INTERVAL;VALUE=DURATION:PT1H
X-Robots-Tag:noindex
X-PUBLISHED-TTL:PT1H
BEGIN:VTIMEZONE
TZID:America/Detroit
BEGIN:DAYLIGHT
TZOFFSETFROM:-0500
TZOFFSETTO:-0400
TZNAME:EDT
DTSTART:20230312T070000
END:DAYLIGHT
BEGIN:STANDARD
TZOFFSETFROM:-0400
TZOFFSETTO:-0500
TZNAME:EST
DTSTART:20231105T060000
END:STANDARD
BEGIN:DAYLIGHT
TZOFFSETFROM:-0500
TZOFFSETTO:-0400
TZNAME:EDT
DTSTART:20240310T070000
END:DAYLIGHT
BEGIN:STANDARD
TZOFFSETFROM:-0400
TZOFFSETTO:-0500
TZNAME:EST
DTSTART:20241103T060000
END:STANDARD
BEGIN:DAYLIGHT
TZOFFSETFROM:-0500
TZOFFSETTO:-0400
TZNAME:EDT
DTSTART:20250309T070000
END:DAYLIGHT
BEGIN:STANDARD
TZOFFSETFROM:-0400
TZOFFSETTO:-0500
TZNAME:EST
DTSTART:20251102T060000
END:STANDARD
END:VTIMEZONE
BEGIN:VEVENT
DTSTART;TZID=America/Detroit:20240924T100000
DTEND;TZID=America/Detroit:20240924T120000
DTSTAMP:20260422T214257
CREATED:20240904T180840Z
LAST-MODIFIED:20240917T161443Z
UID:20101-1727172000-1727179200@va811.com
SUMMARY:Eastern VA Region 2 LDPC Meeting
DESCRIPTION:Eastern VA Region 2\nLocal Damage Prevention Committee (LDPC) Meeting\nTuesday\nSeptember 24\, 2024\n10:00 AM -12:00 PM \nHilton Garden Inn \n1565 Crossways Blvd. \nChesapeake 23320 \nRSVP Link: https://lp.constantcontactpages.com/ev/reg/bte7axh
URL:https://va811.com/event/eastern-va-region-2-ldpc-meeting-2/
LOCATION:VA
CATEGORIES:LDPC
END:VEVENT
END:VCALENDAR