BEGIN:VCALENDAR
VERSION:2.0
PRODID:-//Virginia811 - ECPv6.15.16//NONSGML v1.0//EN
CALSCALE:GREGORIAN
METHOD:PUBLISH
X-WR-CALNAME:Virginia811
X-ORIGINAL-URL:https://va811.com
X-WR-CALDESC:Events for Virginia811
REFRESH-INTERVAL;VALUE=DURATION:PT1H
X-Robots-Tag:noindex
X-PUBLISHED-TTL:PT1H
BEGIN:VTIMEZONE
TZID:America/Detroit
BEGIN:DAYLIGHT
TZOFFSETFROM:-0500
TZOFFSETTO:-0400
TZNAME:EDT
DTSTART:20230312T070000
END:DAYLIGHT
BEGIN:STANDARD
TZOFFSETFROM:-0400
TZOFFSETTO:-0500
TZNAME:EST
DTSTART:20231105T060000
END:STANDARD
BEGIN:DAYLIGHT
TZOFFSETFROM:-0500
TZOFFSETTO:-0400
TZNAME:EDT
DTSTART:20240310T070000
END:DAYLIGHT
BEGIN:STANDARD
TZOFFSETFROM:-0400
TZOFFSETTO:-0500
TZNAME:EST
DTSTART:20241103T060000
END:STANDARD
BEGIN:DAYLIGHT
TZOFFSETFROM:-0500
TZOFFSETTO:-0400
TZNAME:EDT
DTSTART:20250309T070000
END:DAYLIGHT
BEGIN:STANDARD
TZOFFSETFROM:-0400
TZOFFSETTO:-0500
TZNAME:EST
DTSTART:20251102T060000
END:STANDARD
END:VTIMEZONE
BEGIN:VEVENT
DTSTART;TZID=America/Detroit:20240809T100000
DTEND;TZID=America/Detroit:20240809T110000
DTSTAMP:20260422T231043
CREATED:20240727T194223Z
LAST-MODIFIED:20240727T200052Z
UID:19820-1723197600-1723201200@va811.com
SUMMARY:Northern VA LDPC Meeting
DESCRIPTION: LDPC Meeting\n Northern VA Region 2\nFriday\nAugust 9\, 2024\n10:00 AM – 11:00 AM\nWashington Gas\n6801 Industrial Rd.\nSpringfield\, VA 22151 \nRSVP HERE
URL:https://va811.com/event/northern-va-ldpc-meeting/
LOCATION:Washington Gas\, 6801 Industrial Rd.\, Springfield\, VA\, 22151\, United States
CATEGORIES:LDPC
END:VEVENT
END:VCALENDAR