BEGIN:VCALENDAR
VERSION:2.0
PRODID:-//Virginia811 - ECPv6.15.16//NONSGML v1.0//EN
CALSCALE:GREGORIAN
METHOD:PUBLISH
X-WR-CALNAME:Virginia811
X-ORIGINAL-URL:https://va811.com
X-WR-CALDESC:Events for Virginia811
REFRESH-INTERVAL;VALUE=DURATION:PT1H
X-Robots-Tag:noindex
X-PUBLISHED-TTL:PT1H
BEGIN:VTIMEZONE
TZID:America/Detroit
BEGIN:DAYLIGHT
TZOFFSETFROM:-0500
TZOFFSETTO:-0400
TZNAME:EDT
DTSTART:20230312T070000
END:DAYLIGHT
BEGIN:STANDARD
TZOFFSETFROM:-0400
TZOFFSETTO:-0500
TZNAME:EST
DTSTART:20231105T060000
END:STANDARD
BEGIN:DAYLIGHT
TZOFFSETFROM:-0500
TZOFFSETTO:-0400
TZNAME:EDT
DTSTART:20240310T070000
END:DAYLIGHT
BEGIN:STANDARD
TZOFFSETFROM:-0400
TZOFFSETTO:-0500
TZNAME:EST
DTSTART:20241103T060000
END:STANDARD
BEGIN:DAYLIGHT
TZOFFSETFROM:-0500
TZOFFSETTO:-0400
TZNAME:EDT
DTSTART:20250309T070000
END:DAYLIGHT
BEGIN:STANDARD
TZOFFSETFROM:-0400
TZOFFSETTO:-0500
TZNAME:EST
DTSTART:20251102T060000
END:STANDARD
END:VTIMEZONE
BEGIN:VEVENT
DTSTART;TZID=America/Detroit:20240326T100000
DTEND;TZID=America/Detroit:20240326T113000
DTSTAMP:20260423T064148
CREATED:20240311T174349Z
LAST-MODIFIED:20240315T213701Z
UID:18861-1711447200-1711452600@va811.com
SUMMARY:SW Virginia Region 7 LDPC Meeting - Waynesboro
DESCRIPTION:Southwest Virginia Region 7\nTuesday \nMarch 26\, 2024 \n10:00 AM – 11:30 AM \nShentel Center \n1150 Shenandoah Village Drive \nWaynesboro\, VA 22980 \nRSVP HERE  
URL:https://va811.com/event/southwest-virginia-region-7-ldpc-meeting/
LOCATION:Shentel Center\, 1150 Shenandoah Village Dr.\, Waynesboro\, VA\, 22980\, United States
CATEGORIES:LDPC
END:VEVENT
END:VCALENDAR