BEGIN:VCALENDAR
VERSION:2.0
PRODID:-//Virginia811 - ECPv6.15.16//NONSGML v1.0//EN
CALSCALE:GREGORIAN
METHOD:PUBLISH
X-WR-CALNAME:Virginia811
X-ORIGINAL-URL:https://va811.com
X-WR-CALDESC:Events for Virginia811
REFRESH-INTERVAL;VALUE=DURATION:PT1H
X-Robots-Tag:noindex
X-PUBLISHED-TTL:PT1H
BEGIN:VTIMEZONE
TZID:America/Detroit
BEGIN:DAYLIGHT
TZOFFSETFROM:-0500
TZOFFSETTO:-0400
TZNAME:EDT
DTSTART:20230312T070000
END:DAYLIGHT
BEGIN:STANDARD
TZOFFSETFROM:-0400
TZOFFSETTO:-0500
TZNAME:EST
DTSTART:20231105T060000
END:STANDARD
BEGIN:DAYLIGHT
TZOFFSETFROM:-0500
TZOFFSETTO:-0400
TZNAME:EDT
DTSTART:20240310T070000
END:DAYLIGHT
BEGIN:STANDARD
TZOFFSETFROM:-0400
TZOFFSETTO:-0500
TZNAME:EST
DTSTART:20241103T060000
END:STANDARD
BEGIN:DAYLIGHT
TZOFFSETFROM:-0500
TZOFFSETTO:-0400
TZNAME:EDT
DTSTART:20250309T070000
END:DAYLIGHT
BEGIN:STANDARD
TZOFFSETFROM:-0400
TZOFFSETTO:-0500
TZNAME:EST
DTSTART:20251102T060000
END:STANDARD
END:VTIMEZONE
BEGIN:VEVENT
DTSTART;TZID=America/Detroit:20240222T110000
DTEND;TZID=America/Detroit:20240222T130000
DTSTAMP:20260423T075131
CREATED:20240129T130337Z
LAST-MODIFIED:20240129T130731Z
UID:18312-1708599600-1708606800@va811.com
SUMMARY:Central Virginia Region 3 LDPC Meeting
DESCRIPTION:Thursday \nFebruary 22\, 2024 \n11:00 AM – 1:00 PM \nColumbia Gas of Virginia \n1812 Coyote Drive \nChester\, VA 23836 \n* Kindly RSVP for the event so that we can arrange food accordingly. Your response is greatly appreciated.
URL:https://va811.com/event/central-virginia-region-3-ldpc-meeting/
LOCATION:Columbia Gas of Virginia\, 25 Blue Bird Ln.\, Buena Vista\, VA\, 24416\, United States
CATEGORIES:LDPC
END:VEVENT
END:VCALENDAR