BEGIN:VCALENDAR
VERSION:2.0
PRODID:-//Virginia811 - ECPv6.15.16//NONSGML v1.0//EN
CALSCALE:GREGORIAN
METHOD:PUBLISH
X-WR-CALNAME:Virginia811
X-ORIGINAL-URL:https://va811.com
X-WR-CALDESC:Events for Virginia811
REFRESH-INTERVAL;VALUE=DURATION:PT1H
X-Robots-Tag:noindex
X-PUBLISHED-TTL:PT1H
BEGIN:VTIMEZONE
TZID:America/Detroit
BEGIN:DAYLIGHT
TZOFFSETFROM:-0500
TZOFFSETTO:-0400
TZNAME:EDT
DTSTART:20230312T070000
END:DAYLIGHT
BEGIN:STANDARD
TZOFFSETFROM:-0400
TZOFFSETTO:-0500
TZNAME:EST
DTSTART:20231105T060000
END:STANDARD
BEGIN:DAYLIGHT
TZOFFSETFROM:-0500
TZOFFSETTO:-0400
TZNAME:EDT
DTSTART:20240310T070000
END:DAYLIGHT
BEGIN:STANDARD
TZOFFSETFROM:-0400
TZOFFSETTO:-0500
TZNAME:EST
DTSTART:20241103T060000
END:STANDARD
BEGIN:DAYLIGHT
TZOFFSETFROM:-0500
TZOFFSETTO:-0400
TZNAME:EDT
DTSTART:20250309T070000
END:DAYLIGHT
BEGIN:STANDARD
TZOFFSETFROM:-0400
TZOFFSETTO:-0500
TZNAME:EST
DTSTART:20251102T060000
END:STANDARD
END:VTIMEZONE
BEGIN:VEVENT
DTSTART;TZID=America/Detroit:20240209T100000
DTEND;TZID=America/Detroit:20240209T120000
DTSTAMP:20260423T075146
CREATED:20240129T125854Z
LAST-MODIFIED:20240129T125854Z
UID:18309-1707472800-1707480000@va811.com
SUMMARY:Northern Virginia Region 2﻿ LDPC Meeting
DESCRIPTION:Friday\nFebruary 9\, 2024\n10:00 AM – 12:00 PM\n  \nVirginia Portuguese Community Center \n9509 Lee Ave. W \nManassas\, VA 20110
URL:https://va811.com/event/northern-virginia-region-2-ldpc-meeting/
LOCATION:Virginia Portuguese Community Center\, 9509 Lee Ave. W\, Manassas\, VA\, 20110\, United States
CATEGORIES:LDPC
END:VEVENT
END:VCALENDAR