BEGIN:VCALENDAR
VERSION:2.0
PRODID:-//Virginia811 - ECPv6.15.16//NONSGML v1.0//EN
CALSCALE:GREGORIAN
METHOD:PUBLISH
X-WR-CALNAME:Virginia811
X-ORIGINAL-URL:https://va811.com
X-WR-CALDESC:Events for Virginia811
REFRESH-INTERVAL;VALUE=DURATION:PT1H
X-Robots-Tag:noindex
X-PUBLISHED-TTL:PT1H
BEGIN:VTIMEZONE
TZID:America/Detroit
BEGIN:DAYLIGHT
TZOFFSETFROM:-0500
TZOFFSETTO:-0400
TZNAME:EDT
DTSTART:20230312T070000
END:DAYLIGHT
BEGIN:STANDARD
TZOFFSETFROM:-0400
TZOFFSETTO:-0500
TZNAME:EST
DTSTART:20231105T060000
END:STANDARD
BEGIN:DAYLIGHT
TZOFFSETFROM:-0500
TZOFFSETTO:-0400
TZNAME:EDT
DTSTART:20240310T070000
END:DAYLIGHT
BEGIN:STANDARD
TZOFFSETFROM:-0400
TZOFFSETTO:-0500
TZNAME:EST
DTSTART:20241103T060000
END:STANDARD
BEGIN:DAYLIGHT
TZOFFSETFROM:-0500
TZOFFSETTO:-0400
TZNAME:EDT
DTSTART:20250309T070000
END:DAYLIGHT
BEGIN:STANDARD
TZOFFSETFROM:-0400
TZOFFSETTO:-0500
TZNAME:EST
DTSTART:20251102T060000
END:STANDARD
END:VTIMEZONE
BEGIN:VEVENT
DTSTART;TZID=America/Detroit:20240201T070000
DTEND;TZID=America/Detroit:20240201T080000
DTSTAMP:20260423T075125
CREATED:20240124T122252Z
LAST-MODIFIED:20240125T170842Z
UID:18030-1706770800-1706774400@va811.com
SUMMARY:Virtual Spanish LDPC Meeting
DESCRIPTION:Virtual Spanish LDPC Meeting\nFebruary 1\n7:00 AM – 8:00 AM\n\n \nVirtual Meeting Link:\n \n https://us06web.zoom.us/j/82665071167?pwd=0YVNxG3Lhp65KVI3l1JTMCzFOsHbF0.1
URL:https://va811.com/event/virtual-spanish-ldpc-meeting/
LOCATION:VA
CATEGORIES:LDPC
END:VEVENT
END:VCALENDAR