BEGIN:VCALENDAR
VERSION:2.0
PRODID:-//Virginia811 - ECPv6.15.16//NONSGML v1.0//EN
CALSCALE:GREGORIAN
METHOD:PUBLISH
X-WR-CALNAME:Virginia811
X-ORIGINAL-URL:https://va811.com
X-WR-CALDESC:Events for Virginia811
REFRESH-INTERVAL;VALUE=DURATION:PT1H
X-Robots-Tag:noindex
X-PUBLISHED-TTL:PT1H
BEGIN:VTIMEZONE
TZID:America/New_York
BEGIN:DAYLIGHT
TZOFFSETFROM:-0500
TZOFFSETTO:-0400
TZNAME:EDT
DTSTART:20220313T070000
END:DAYLIGHT
BEGIN:STANDARD
TZOFFSETFROM:-0400
TZOFFSETTO:-0500
TZNAME:EST
DTSTART:20221106T060000
END:STANDARD
BEGIN:DAYLIGHT
TZOFFSETFROM:-0500
TZOFFSETTO:-0400
TZNAME:EDT
DTSTART:20230312T070000
END:DAYLIGHT
BEGIN:STANDARD
TZOFFSETFROM:-0400
TZOFFSETTO:-0500
TZNAME:EST
DTSTART:20231105T060000
END:STANDARD
BEGIN:DAYLIGHT
TZOFFSETFROM:-0500
TZOFFSETTO:-0400
TZNAME:EDT
DTSTART:20240310T070000
END:DAYLIGHT
BEGIN:STANDARD
TZOFFSETFROM:-0400
TZOFFSETTO:-0500
TZNAME:EST
DTSTART:20241103T060000
END:STANDARD
END:VTIMEZONE
BEGIN:VEVENT
DTSTART;TZID=America/New_York:20231026T070000
DTEND;TZID=America/New_York:20231026T083000
DTSTAMP:20260423T140918
CREATED:20231013T180305Z
LAST-MODIFIED:20231026T125133Z
UID:13383-1698303600-1698309000@va811.com
SUMMARY:Spanish Local Damage Prevention Committee Meeting - Virtual
DESCRIPTION:Spanish Local Damage Prevention Committee Meeting\nVirtual \nDate: Oct 26\, 2023 \nTime: 7 AM \nAgenda\nWelcome & Introductions\nFernando Mendez\nRosemary Langowski \nWorkshop (Open Forum) \nRSVP HERE: lp.constantcontactpages.com/ev/reg/73dpeuf \nClick here for the Zoom link!
URL:https://va811.com/event/spanish-local-damage-prevention-committee-meeting-virtual-2/
LOCATION:VA
CATEGORIES:Events,LDPC
END:VEVENT
BEGIN:VEVENT
DTSTART;TZID=America/New_York:20231026T103000
DTEND;TZID=America/New_York:20231026T123000
DTSTAMP:20260423T140918
CREATED:20231003T164800Z
LAST-MODIFIED:20231026T134737Z
UID:13334-1698316200-1698323400@va811.com
SUMMARY:Southwest VA Region 6 LDPC Meeting
DESCRIPTION:Southwest VA Region 6 LDPC Meeting\n\n\n\nDate: Oct 26\, 2023 \n10:30 am – 12:30 pm \nLocation: \nAugusta County Library (Fishersville Ramp Room) \n1759 Jefferson Hwy\, Fishersville\, VA 22939 \n\n\n  \nStay tune for more details!
URL:https://va811.com/event/southwest-va-region-6-ldpc-meeting/
LOCATION:VA
CATEGORIES:Events,LDPC
END:VEVENT
END:VCALENDAR