BEGIN:VCALENDAR
VERSION:2.0
PRODID:-//Virginia811 - ECPv6.15.16//NONSGML v1.0//EN
CALSCALE:GREGORIAN
METHOD:PUBLISH
X-ORIGINAL-URL:https://va811.com
X-WR-CALDESC:Events for Virginia811
REFRESH-INTERVAL;VALUE=DURATION:PT1H
X-Robots-Tag:noindex
X-PUBLISHED-TTL:PT1H
BEGIN:VTIMEZONE
TZID:America/New_York
BEGIN:DAYLIGHT
TZOFFSETFROM:-0500
TZOFFSETTO:-0400
TZNAME:EDT
DTSTART:20220313T070000
END:DAYLIGHT
BEGIN:STANDARD
TZOFFSETFROM:-0400
TZOFFSETTO:-0500
TZNAME:EST
DTSTART:20221106T060000
END:STANDARD
BEGIN:DAYLIGHT
TZOFFSETFROM:-0500
TZOFFSETTO:-0400
TZNAME:EDT
DTSTART:20230312T070000
END:DAYLIGHT
BEGIN:STANDARD
TZOFFSETFROM:-0400
TZOFFSETTO:-0500
TZNAME:EST
DTSTART:20231105T060000
END:STANDARD
BEGIN:DAYLIGHT
TZOFFSETFROM:-0500
TZOFFSETTO:-0400
TZNAME:EDT
DTSTART:20240310T070000
END:DAYLIGHT
BEGIN:STANDARD
TZOFFSETFROM:-0400
TZOFFSETTO:-0500
TZNAME:EST
DTSTART:20241103T060000
END:STANDARD
END:VTIMEZONE
BEGIN:VEVENT
DTSTART;TZID=America/New_York:20231012T120000
DTEND;TZID=America/New_York:20231012T140000
DTSTAMP:20260423T141043
CREATED:20231005T150840Z
LAST-MODIFIED:20231005T150840Z
UID:13342-1697112000-1697119200@va811.com
SUMMARY:Eastern VA\,  Region 2 LDPC Meeting
DESCRIPTION:Eastern VA\, Region 2 LDPC Meeting\nLocation: 5911 Harbour View Blvd. Suite 220\, Suffolk\, VA 23435 \nDate: Oct 12\, 2023 \n12:00 pm – 2:00 pm \nAGENDA\nVirginia 811 Presentation and Updates\nHRUHCA Safety Training Offerings\nOpen Discussion \nClick here to RSVP\n\nREGISTER FOR REGIONAL LDPC MEETING ALERTS \nStay informed about LDPC meetings in your desired region(s) or statewide meetings. \nRegister for notifications here:  https://lp.constantcontactpages.com/sv/MvXKG4U/LDPCSignUp
URL:https://va811.com/event/eastern-va-region-2-ldpc-meeting/
LOCATION:VA
CATEGORIES:LDPC
END:VEVENT
END:VCALENDAR