BEGIN:VCALENDAR
VERSION:2.0
PRODID:-//Virginia811 - ECPv6.15.16//NONSGML v1.0//EN
CALSCALE:GREGORIAN
METHOD:PUBLISH
X-ORIGINAL-URL:https://va811.com
X-WR-CALDESC:Events for Virginia811
REFRESH-INTERVAL;VALUE=DURATION:PT1H
X-Robots-Tag:noindex
X-PUBLISHED-TTL:PT1H
BEGIN:VTIMEZONE
TZID:America/New_York
BEGIN:DAYLIGHT
TZOFFSETFROM:-0500
TZOFFSETTO:-0400
TZNAME:EDT
DTSTART:20220313T070000
END:DAYLIGHT
BEGIN:STANDARD
TZOFFSETFROM:-0400
TZOFFSETTO:-0500
TZNAME:EST
DTSTART:20221106T060000
END:STANDARD
BEGIN:DAYLIGHT
TZOFFSETFROM:-0500
TZOFFSETTO:-0400
TZNAME:EDT
DTSTART:20230312T070000
END:DAYLIGHT
BEGIN:STANDARD
TZOFFSETFROM:-0400
TZOFFSETTO:-0500
TZNAME:EST
DTSTART:20231105T060000
END:STANDARD
BEGIN:DAYLIGHT
TZOFFSETFROM:-0500
TZOFFSETTO:-0400
TZNAME:EDT
DTSTART:20240310T070000
END:DAYLIGHT
BEGIN:STANDARD
TZOFFSETFROM:-0400
TZOFFSETTO:-0500
TZNAME:EST
DTSTART:20241103T060000
END:STANDARD
END:VTIMEZONE
BEGIN:VEVENT
DTSTART;TZID=America/New_York:20230922T090000
DTEND;TZID=America/New_York:20230922T110000
DTSTAMP:20260423T154211
CREATED:20230823T202607Z
LAST-MODIFIED:20230823T202607Z
UID:12860-1695373200-1695380400@va811.com
SUMMARY:Northern VA\, Region 3 LDPC Meeting
DESCRIPTION:Northern VA\, Region 3 LDPC Meeting\nDate: Sep 22\, 2023 \n9:00 am – 11:00 am \nLocation: \nColumbia Gas Operations Center \n60 Commerce Pkwy\, Fredericksburg\, VA 22406 \nAgenda: \n· Welcome – Bob Dustin\n· Safety Moment – Shawn Dixon\n· Attendee Introductions\n· VA811 Update – Fernando Mendez\n· SCC Update \n· Fredericksburg Area Local Trends (Fredericksburg Area) and Education Credit Plan – Chad Mayhew\n· Open Discussion/Questions – Bob Dustin\n· Door Prizes \nRefreshments provided for today’s meeting by:\nColumbia Gas of Virginia\nRappahannock Electric Cooperative \nClick here to RSVP! \n  \n\nREGISTER FOR REGIONAL LDPC MEETING ALERTS \nStay informed about LDPC meetings in your desired region(s) or statewide meetings. \nRegister for notifications here:  https://lp.constantcontactpages.com/sv/MvXKG4U/LDPCSignUp
URL:https://va811.com/event/northern-va-region-3-ldpc-meeting/
LOCATION:VA
CATEGORIES:LDPC
END:VEVENT
END:VCALENDAR