BEGIN:VCALENDAR
VERSION:2.0
PRODID:-//Virginia811 - ECPv6.15.16//NONSGML v1.0//EN
CALSCALE:GREGORIAN
METHOD:PUBLISH
X-ORIGINAL-URL:https://va811.com
X-WR-CALDESC:Events for Virginia811
REFRESH-INTERVAL;VALUE=DURATION:PT1H
X-Robots-Tag:noindex
X-PUBLISHED-TTL:PT1H
BEGIN:VTIMEZONE
TZID:America/New_York
BEGIN:DAYLIGHT
TZOFFSETFROM:-0500
TZOFFSETTO:-0400
TZNAME:EDT
DTSTART:20220313T070000
END:DAYLIGHT
BEGIN:STANDARD
TZOFFSETFROM:-0400
TZOFFSETTO:-0500
TZNAME:EST
DTSTART:20221106T060000
END:STANDARD
BEGIN:DAYLIGHT
TZOFFSETFROM:-0500
TZOFFSETTO:-0400
TZNAME:EDT
DTSTART:20230312T070000
END:DAYLIGHT
BEGIN:STANDARD
TZOFFSETFROM:-0400
TZOFFSETTO:-0500
TZNAME:EST
DTSTART:20231105T060000
END:STANDARD
BEGIN:DAYLIGHT
TZOFFSETFROM:-0500
TZOFFSETTO:-0400
TZNAME:EDT
DTSTART:20240310T070000
END:DAYLIGHT
BEGIN:STANDARD
TZOFFSETFROM:-0400
TZOFFSETTO:-0500
TZNAME:EST
DTSTART:20241103T060000
END:STANDARD
END:VTIMEZONE
BEGIN:VEVENT
DTSTART;TZID=America/New_York:20230914T100000
DTEND;TZID=America/New_York:20230914T120000
DTSTAMP:20260423T154221
CREATED:20230905T221701Z
LAST-MODIFIED:20230905T221701Z
UID:12961-1694685600-1694692800@va811.com
SUMMARY:Southeast VA Region 1 LDPC Meeting
DESCRIPTION:LDPC MEETING CANCELLED \nWe regret that due to unforeseen circumstances\, we have had to cancel tomorrow’s Southeast Virginia Region 1 LDPC meeting in South Hill\, Virginia. Please be on the lookout for future communications regarding rescheduling this meeting. We apologize for any inconvenience and appreciate your understanding in this matter. \n \nSoutheast VA Region 1 LDPC Meeting\nDate: Sep 14\, 2023 \n10:00 am – 12:00 am \nLocation: VDOT South Hill Residency Office\,  \n1013 W. Atlantic Ave. South Hill\, VA 23970 \nClick here to RSVP! \n  \n\nREGISTER FOR REGIONAL LDPC MEETING ALERTS \nStay informed about LDPC meetings in your desired region(s) or statewide meetings. \nRegister for notifications here:  https://lp.constantcontactpages.com/sv/MvXKG4U/LDPCSignUp
URL:https://va811.com/event/southeast-va-region-1-ldpc-meeting/
LOCATION:VA
CATEGORIES:LDPC
END:VEVENT
END:VCALENDAR