BEGIN:VCALENDAR
VERSION:2.0
PRODID:-//Virginia811 - ECPv6.15.16//NONSGML v1.0//EN
CALSCALE:GREGORIAN
METHOD:PUBLISH
X-WR-CALNAME:Virginia811
X-ORIGINAL-URL:https://va811.com
X-WR-CALDESC:Events for Virginia811
REFRESH-INTERVAL;VALUE=DURATION:PT1H
X-Robots-Tag:noindex
X-PUBLISHED-TTL:PT1H
BEGIN:VTIMEZONE
TZID:America/Detroit
BEGIN:DAYLIGHT
TZOFFSETFROM:-0500
TZOFFSETTO:-0400
TZNAME:EDT
DTSTART:20230312T070000
END:DAYLIGHT
BEGIN:STANDARD
TZOFFSETFROM:-0400
TZOFFSETTO:-0500
TZNAME:EST
DTSTART:20231105T060000
END:STANDARD
BEGIN:DAYLIGHT
TZOFFSETFROM:-0500
TZOFFSETTO:-0400
TZNAME:EDT
DTSTART:20240310T070000
END:DAYLIGHT
BEGIN:STANDARD
TZOFFSETFROM:-0400
TZOFFSETTO:-0500
TZNAME:EST
DTSTART:20241103T060000
END:STANDARD
BEGIN:DAYLIGHT
TZOFFSETFROM:-0500
TZOFFSETTO:-0400
TZNAME:EDT
DTSTART:20250309T070000
END:DAYLIGHT
BEGIN:STANDARD
TZOFFSETFROM:-0400
TZOFFSETTO:-0500
TZNAME:EST
DTSTART:20251102T060000
END:STANDARD
END:VTIMEZONE
BEGIN:VEVENT
DTSTART;TZID=America/Detroit:20240510T090000
DTEND;TZID=America/Detroit:20240510T103000
DTSTAMP:20260423T020856
CREATED:20240429T234437Z
LAST-MODIFIED:20240429T234842Z
UID:19407-1715331600-1715337000@va811.com
SUMMARY:Southwest VA Region 5 LDPC Meeting
DESCRIPTION:Friday\nMay 10\, 2024\nLocal Damage Prevention Committee (LDPC) Meeting\nSouthwest VA Region 5\n9:00 AM to 10:30 AM\nVirginia 811 Headquarters \n1830 Blue Hills Circle NE \nRoanoke VA 24012 \n  \nRSVP Here: https://lp.constantcontactpages.com/ev/reg/jw3jzx7
URL:https://va811.com/event/southwest-va-region-5-ldpc-meeting-2/
LOCATION:Virginia 811 Headquarters\, 1830 Blue Hills Circle NE\, Roanoke\, VA\, 24012\, United States
CATEGORIES:LDPC
END:VEVENT
BEGIN:VEVENT
DTSTART;TZID=America/Detroit:20240516T120000
DTEND;TZID=America/Detroit:20240516T133000
DTSTAMP:20260423T020856
CREATED:20240418T162558Z
LAST-MODIFIED:20240502T190330Z
UID:19326-1715860800-1715866200@va811.com
SUMMARY:Central VA Region 1 LDPC Meeting
DESCRIPTION:  \nThursday\nMay 16\, 2024\n12:00 PM Lunch Starts Followed by the LDPC Meeting\nCountry Inn in Ashland (near Bass Pro Shop) \n11600 Lakeridge Parkway \nAshland VA 23005 \nSpecial thanks to Mastec Utility Services for generously providing lunch for this event! \n \nRSVP: HERE
URL:https://va811.com/event/central-va-region-1-ldpc-meeting-2/
LOCATION:Country Inn in Ashland\, 11600 Lakeridge Parkway\, Ashland\, VA\, 23005\, United States
CATEGORIES:LDPC
END:VEVENT
END:VCALENDAR